BEGIN:VCALENDAR
VERSION:2.0
PRODID:-//UC Tourism Production - ECPv6.15.18//NONSGML v1.0//EN
CALSCALE:GREGORIAN
METHOD:PUBLISH
X-ORIGINAL-URL:https://visitulstercountyny.com
X-WR-CALDESC:Events for UC Tourism Production
REFRESH-INTERVAL;VALUE=DURATION:PT1H
X-Robots-Tag:noindex
X-PUBLISHED-TTL:PT1H
BEGIN:VTIMEZONE
TZID:America/New_York
BEGIN:DAYLIGHT
TZOFFSETFROM:-0500
TZOFFSETTO:-0400
TZNAME:EDT
DTSTART:20250309T070000
END:DAYLIGHT
BEGIN:STANDARD
TZOFFSETFROM:-0400
TZOFFSETTO:-0500
TZNAME:EST
DTSTART:20251102T060000
END:STANDARD
BEGIN:DAYLIGHT
TZOFFSETFROM:-0500
TZOFFSETTO:-0400
TZNAME:EDT
DTSTART:20260308T070000
END:DAYLIGHT
BEGIN:STANDARD
TZOFFSETFROM:-0400
TZOFFSETTO:-0500
TZNAME:EST
DTSTART:20261101T060000
END:STANDARD
BEGIN:DAYLIGHT
TZOFFSETFROM:-0500
TZOFFSETTO:-0400
TZNAME:EDT
DTSTART:20270314T070000
END:DAYLIGHT
BEGIN:STANDARD
TZOFFSETFROM:-0400
TZOFFSETTO:-0500
TZNAME:EST
DTSTART:20271107T060000
END:STANDARD
END:VTIMEZONE
BEGIN:VEVENT
DTSTART;TZID=America/New_York:20260425T170000
DTEND;TZID=America/New_York:20260425T210000
DTSTAMP:20260421T065813
CREATED:20260309T131748Z
LAST-MODIFIED:20260309T131748Z
UID:10010141-1777136400-1777150800@visitulstercountyny.com
SUMMARY:Center For Spectrum Services 50th Anniversary Celebratory Gala
DESCRIPTION:For half a century\, Center for Spectrum Services has been a beacon of excellence in the Hudson Valley—providing evidence-based education\, therapy\, and support for children on the autism spectrum and their families. \nTo honor this remarkable journey and look toward the future\, we’re hosting Our 50th Year Celebratory Gala on April 25th at Wiltwyck Country Club. The evening promises elegance\, community\, and inspiration as we gather in support of our mission. \nFestivities will include our customary Silent/Online Auction\, and our ever-so-exciting Live Auction with auctioneer Bob Siracusano. A keystone to the evening will be the premiere showing of a new film chronicling 50 years of impact. Join us as we celebrate our legacy\, the strength of our community\, and the bright future ahead—while raising vital support to ensure that innovative education and life-changing therapies remain within reach for generations to come.
URL:https://visitulstercountyny.com/event/center-for-spectrum-services-50th-anniversary-celebratory-gala/
LOCATION:Wiltwyck Golf Club\, 404 Steward Lane\, Kingston\, NY\, 12401\, United States
CATEGORIES:Fundraising Event
ATTACH;FMTTYPE=image/jpeg:https://visitulstercountyny.com/wp-content/uploads/2026/03/Standard-50th-Celebration-Sample-Give-Squared.jpg
END:VEVENT
END:VCALENDAR