BEGIN:VCALENDAR
VERSION:2.0
PRODID:-//UC Tourism Production - ECPv6.15.18//NONSGML v1.0//EN
CALSCALE:GREGORIAN
METHOD:PUBLISH
X-WR-CALNAME:UC Tourism Production
X-ORIGINAL-URL:https://visitulstercountyny.com
X-WR-CALDESC:Events for UC Tourism Production
REFRESH-INTERVAL;VALUE=DURATION:PT1H
X-Robots-Tag:noindex
X-PUBLISHED-TTL:PT1H
BEGIN:VTIMEZONE
TZID:America/New_York
BEGIN:DAYLIGHT
TZOFFSETFROM:-0500
TZOFFSETTO:-0400
TZNAME:EDT
DTSTART:20250309T070000
END:DAYLIGHT
BEGIN:STANDARD
TZOFFSETFROM:-0400
TZOFFSETTO:-0500
TZNAME:EST
DTSTART:20251102T060000
END:STANDARD
BEGIN:DAYLIGHT
TZOFFSETFROM:-0500
TZOFFSETTO:-0400
TZNAME:EDT
DTSTART:20260308T070000
END:DAYLIGHT
BEGIN:STANDARD
TZOFFSETFROM:-0400
TZOFFSETTO:-0500
TZNAME:EST
DTSTART:20261101T060000
END:STANDARD
BEGIN:DAYLIGHT
TZOFFSETFROM:-0500
TZOFFSETTO:-0400
TZNAME:EDT
DTSTART:20270314T070000
END:DAYLIGHT
BEGIN:STANDARD
TZOFFSETFROM:-0400
TZOFFSETTO:-0500
TZNAME:EST
DTSTART:20271107T060000
END:STANDARD
END:VTIMEZONE
BEGIN:VEVENT
DTSTART;TZID=America/New_York:20260404T190000
DTEND;TZID=America/New_York:20260404T233000
DTSTAMP:20260423T124202
CREATED:20251217T150528Z
LAST-MODIFIED:20251217T150528Z
UID:10009032-1775329200-1775345400@visitulstercountyny.com
SUMMARY:Coyote Island LIVE
DESCRIPTION:Coyote Island is the musical vision of Maine-based producer\, songwriter\, and multi-instrumentalist Mike O’Hehir. Assembling a band of brothers\, they have blended folk roots\, reggae rhythms\, and psychedelic indie\, the band crafts music that feels like a sonic escape. \nFrom their breakout release “Here Before” to their latest album\, Shadow Magic (2025)\, they’ve expanded their sound into deeper grooves and vivid storytelling—melding tropical textures\, hypnotic beats\, and a spirit of reflection. Described as both electric and transportive\, Coyote Island’s live shows offer tropical psychedelia and a sonic vacation from the doldrums of existence.
URL:https://visitulstercountyny.com/event/coyote-island-live/
LOCATION:The Lemon Squeeze\, 107 Main St\, New Paltz\, NY\, 12561\, United States
CATEGORIES:Music
ATTACH;FMTTYPE=image/jpeg:https://visitulstercountyny.com/wp-content/uploads/2025/12/MAIN-APPROVED-LANDSCAPE-Cheyanne-Parkans-@c_parkansphotography-scaled.jpeg
END:VEVENT
END:VCALENDAR