BEGIN:VCALENDAR
VERSION:2.0
PRODID:-//UC Tourism Production - ECPv6.15.18//NONSGML v1.0//EN
CALSCALE:GREGORIAN
METHOD:PUBLISH
X-WR-CALNAME:UC Tourism Production
X-ORIGINAL-URL:https://visitulstercountyny.com
X-WR-CALDESC:Events for UC Tourism Production
REFRESH-INTERVAL;VALUE=DURATION:PT1H
X-Robots-Tag:noindex
X-PUBLISHED-TTL:PT1H
BEGIN:VTIMEZONE
TZID:America/New_York
BEGIN:DAYLIGHT
TZOFFSETFROM:-0500
TZOFFSETTO:-0400
TZNAME:EDT
DTSTART:20250309T070000
END:DAYLIGHT
BEGIN:STANDARD
TZOFFSETFROM:-0400
TZOFFSETTO:-0500
TZNAME:EST
DTSTART:20251102T060000
END:STANDARD
BEGIN:DAYLIGHT
TZOFFSETFROM:-0500
TZOFFSETTO:-0400
TZNAME:EDT
DTSTART:20260308T070000
END:DAYLIGHT
BEGIN:STANDARD
TZOFFSETFROM:-0400
TZOFFSETTO:-0500
TZNAME:EST
DTSTART:20261101T060000
END:STANDARD
BEGIN:DAYLIGHT
TZOFFSETFROM:-0500
TZOFFSETTO:-0400
TZNAME:EDT
DTSTART:20270314T070000
END:DAYLIGHT
BEGIN:STANDARD
TZOFFSETFROM:-0400
TZOFFSETTO:-0500
TZNAME:EST
DTSTART:20271107T060000
END:STANDARD
END:VTIMEZONE
BEGIN:VEVENT
DTSTART;TZID=America/New_York:20260506T190000
DTEND;TZID=America/New_York:20260506T210000
DTSTAMP:20260424T121237
CREATED:20260410T135507Z
LAST-MODIFIED:20260410T135507Z
UID:10010318-1778094000-1778101200@visitulstercountyny.com
SUMMARY:The Julie Novak Storytelling Club Launch Party
DESCRIPTION:Celebrate the launch of The Julie Novak Storytelling Club! \nCalling all curious\, brave humans who are ready to connect\, expand\, and have a raucous good time. Absolutely no experience necessary. Expect music\, delicious food\, storytelling performances\, moments to write and share — no pressure — and room for all to listen.\nInspired by the big\, bold spirit of our beloved late co-founder\, Julie Novak\, all of us at TMI Project invite you to step out of this crazy world and into an alternate universe where magic exists and we remember that being human is a shared experience. \nIf you’ve ever been in a room with Julie\, you know the enthusiasm was palpable. The way she looked at you made you feel famous. She made everything feel like something to celebrate. This is the spirit behind The Julie Novak Storytelling Club. Come be part of what she started. \nTheme: Freedom\nWear your favorite club merch\, or anything pink or black!
URL:https://visitulstercountyny.com/event/the-julie-novak-storytelling-club-launch-party/
LOCATION:Senate Garage\, 4 North Front Street\, Kingston\, NY\, 12401
CATEGORIES:Fundraising Event,Music,Show
ATTACH;FMTTYPE=image/jpeg:https://visitulstercountyny.com/wp-content/uploads/2026/04/JulieNovakStorytellingClub_CopyImage-1-260406.jpg
ORGANIZER;CN="TMI PROJECT":MAILTO:info@tmiproject.org
END:VEVENT
END:VCALENDAR