BEGIN:VCALENDAR
VERSION:2.0
PRODID:-//UC Tourism Production - ECPv6.15.18//NONSGML v1.0//EN
CALSCALE:GREGORIAN
METHOD:PUBLISH
X-WR-CALNAME:UC Tourism Production
X-ORIGINAL-URL:https://visitulstercountyny.com
X-WR-CALDESC:Events for UC Tourism Production
REFRESH-INTERVAL;VALUE=DURATION:PT1H
X-Robots-Tag:noindex
X-PUBLISHED-TTL:PT1H
BEGIN:VTIMEZONE
TZID:America/New_York
BEGIN:DAYLIGHT
TZOFFSETFROM:-0500
TZOFFSETTO:-0400
TZNAME:EDT
DTSTART:20250309T070000
END:DAYLIGHT
BEGIN:STANDARD
TZOFFSETFROM:-0400
TZOFFSETTO:-0500
TZNAME:EST
DTSTART:20251102T060000
END:STANDARD
BEGIN:DAYLIGHT
TZOFFSETFROM:-0500
TZOFFSETTO:-0400
TZNAME:EDT
DTSTART:20260308T070000
END:DAYLIGHT
BEGIN:STANDARD
TZOFFSETFROM:-0400
TZOFFSETTO:-0500
TZNAME:EST
DTSTART:20261101T060000
END:STANDARD
BEGIN:DAYLIGHT
TZOFFSETFROM:-0500
TZOFFSETTO:-0400
TZNAME:EDT
DTSTART:20270314T070000
END:DAYLIGHT
BEGIN:STANDARD
TZOFFSETFROM:-0400
TZOFFSETTO:-0500
TZNAME:EST
DTSTART:20271107T060000
END:STANDARD
END:VTIMEZONE
BEGIN:VEVENT
DTSTART;TZID=America/New_York:20260424T200000
DTEND;TZID=America/New_York:20260424T220000
DTSTAMP:20260421T041125
CREATED:20260413T125442Z
LAST-MODIFIED:20260413T125442Z
UID:10010325-1777060800-1777068000@visitulstercountyny.com
SUMMARY:Heated Rivalry Dance Party
DESCRIPTION:Welcome to the high-energy\, emotionally charged dance party inspired by the tension\, obsession\, and enemies-to-lovers chaos of Heated Rivalry. Built around forbidden attraction\, late-night adrenaline\, and messy feelings you don’t know what to do with\, this party lives in the space between competition and connection. \nExpect to hear the show’s soundtrack alongside music from the 2010s that moves between aggressive\, heart-pounding energy and dramatic\, emotional release. This is a night for side-eye\, screaming lyrics at strangers\, locking eyes across the room\, and letting the tension live a little too long.
URL:https://visitulstercountyny.com/event/heated-rivalry-dance-party/
LOCATION:Bearsville Theater\, 291 Tinker Street\, Woodstock\, NY\, 12498\, United States
ATTACH;FMTTYPE=image/jpeg:https://visitulstercountyny.com/wp-content/uploads/2026/04/Heated-Rivalry-Dance-Party.jpeg
ORGANIZER;CN="Party Iconic":MAILTO:info@bearsvilletheater.com
END:VEVENT
END:VCALENDAR