BEGIN:VCALENDAR
VERSION:2.0
PRODID:-//UC Tourism Production - ECPv6.15.18//NONSGML v1.0//EN
CALSCALE:GREGORIAN
METHOD:PUBLISH
X-ORIGINAL-URL:https://visitulstercountyny.com
X-WR-CALDESC:Events for UC Tourism Production
REFRESH-INTERVAL;VALUE=DURATION:PT1H
X-Robots-Tag:noindex
X-PUBLISHED-TTL:PT1H
BEGIN:VTIMEZONE
TZID:America/New_York
BEGIN:DAYLIGHT
TZOFFSETFROM:-0500
TZOFFSETTO:-0400
TZNAME:EDT
DTSTART:20250309T070000
END:DAYLIGHT
BEGIN:STANDARD
TZOFFSETFROM:-0400
TZOFFSETTO:-0500
TZNAME:EST
DTSTART:20251102T060000
END:STANDARD
BEGIN:DAYLIGHT
TZOFFSETFROM:-0500
TZOFFSETTO:-0400
TZNAME:EDT
DTSTART:20260308T070000
END:DAYLIGHT
BEGIN:STANDARD
TZOFFSETFROM:-0400
TZOFFSETTO:-0500
TZNAME:EST
DTSTART:20261101T060000
END:STANDARD
BEGIN:DAYLIGHT
TZOFFSETFROM:-0500
TZOFFSETTO:-0400
TZNAME:EDT
DTSTART:20270314T070000
END:DAYLIGHT
BEGIN:STANDARD
TZOFFSETFROM:-0400
TZOFFSETTO:-0500
TZNAME:EST
DTSTART:20271107T060000
END:STANDARD
END:VTIMEZONE
BEGIN:VEVENT
DTSTART;TZID=America/New_York:20260424T180000
DTEND;TZID=America/New_York:20260424T210000
DTSTAMP:20260420T140514
CREATED:20260420T141012Z
LAST-MODIFIED:20260420T141012Z
UID:10010349-1777053600-1777064400@visitulstercountyny.com
SUMMARY:River City Rampage '26 Pro Wrestling Fundraiser for Clean Water ECPW x NYec
DESCRIPTION:Back at the Andy Murphy Neighborhood center for the 4th year! This year we’re wrestling for the rivers! In the main event Tommy Dreamer is coming to Kingston to challenge for the ECPW HV Heavyweight Title in a 3-Way match vs Captain Pain vs MJ Stax! \nEvery registration to this event brings us forward in our mission. Together\, we can keep our rivers and waters clean for all!
URL:https://visitulstercountyny.com/event/river-city-rampage-26-pro-wrestling-fundraiser-for-clean-water-ecpw-x-nyec/
LOCATION:Andy Murphy Recreation Center\, 467 Broadway\, Kingston\, NY\, 12401
ATTACH;FMTTYPE=image/jpeg:https://visitulstercountyny.com/wp-content/uploads/2026/04/IMG_20260313_152538-scaled.jpg
ORGANIZER;CN="NYenvironcom":MAILTO:director@nyenvironcom.org
END:VEVENT
END:VCALENDAR