BEGIN:VCALENDAR
VERSION:2.0
PRODID:-//UC Tourism Production - ECPv6.15.18//NONSGML v1.0//EN
CALSCALE:GREGORIAN
METHOD:PUBLISH
X-WR-CALNAME:UC Tourism Production
X-ORIGINAL-URL:https://visitulstercountyny.com
X-WR-CALDESC:Events for UC Tourism Production
REFRESH-INTERVAL;VALUE=DURATION:PT1H
X-Robots-Tag:noindex
X-PUBLISHED-TTL:PT1H
BEGIN:VTIMEZONE
TZID:America/New_York
BEGIN:DAYLIGHT
TZOFFSETFROM:-0500
TZOFFSETTO:-0400
TZNAME:EDT
DTSTART:20250309T070000
END:DAYLIGHT
BEGIN:STANDARD
TZOFFSETFROM:-0400
TZOFFSETTO:-0500
TZNAME:EST
DTSTART:20251102T060000
END:STANDARD
BEGIN:DAYLIGHT
TZOFFSETFROM:-0500
TZOFFSETTO:-0400
TZNAME:EDT
DTSTART:20260308T070000
END:DAYLIGHT
BEGIN:STANDARD
TZOFFSETFROM:-0400
TZOFFSETTO:-0500
TZNAME:EST
DTSTART:20261101T060000
END:STANDARD
BEGIN:DAYLIGHT
TZOFFSETFROM:-0500
TZOFFSETTO:-0400
TZNAME:EDT
DTSTART:20270314T070000
END:DAYLIGHT
BEGIN:STANDARD
TZOFFSETFROM:-0400
TZOFFSETTO:-0500
TZNAME:EST
DTSTART:20271107T060000
END:STANDARD
END:VTIMEZONE
BEGIN:VEVENT
DTSTART;TZID=America/New_York:20260516T110000
DTEND;TZID=America/New_York:20260516T160000
DTSTAMP:20260423T132059
CREATED:20260410T135631Z
LAST-MODIFIED:20260410T135631Z
UID:10010319-1778929200-1778947200@visitulstercountyny.com
SUMMARY:3rd Annual Hudson Valley Kite Fest
DESCRIPTION:Get ready to soar at Kingston’s 3rd Annual Hudson Valley Kite Fest. This free\, family-friendly celebration welcomes both seasoned pros and first-time flyers to experience the pure joy of kites at Kingston Point Beach. Bring your own kite or design one on-site\, then watch it dance across the sky. \nThis year’s festival is going bigger and better — with giant kites\, new performances\, live entertainment\, local vendors\, delicious food\, creative crafts\, games\, surprises\, and an expanded Sensory Zone designed for inclusive fun. With wide open skies and a beautiful waterfront setting\, there is no better place in the Hudson Valley to catch the wind and fly.
URL:https://visitulstercountyny.com/event/3rd-annual-hudson-valley-kite-fest/
LOCATION:Kingston Point Beach\, 102-144 Delaware Ave.\, Kingston\, 12401
CATEGORIES:Fairs & Festivals
ATTACH;FMTTYPE=image/jpeg:https://visitulstercountyny.com/wp-content/uploads/2026/04/666011348_10238860269837365_783785974310920559_n.jpg
ORGANIZER;CN="MyKingstonKids":MAILTO:Info@Mykingstonkids.Com
END:VEVENT
END:VCALENDAR