BEGIN:VCALENDAR
VERSION:2.0
PRODID:-//UC Tourism Production - ECPv6.15.18//NONSGML v1.0//EN
CALSCALE:GREGORIAN
METHOD:PUBLISH
X-ORIGINAL-URL:https://visitulstercountyny.com
X-WR-CALDESC:Events for UC Tourism Production
REFRESH-INTERVAL;VALUE=DURATION:PT1H
X-Robots-Tag:noindex
X-PUBLISHED-TTL:PT1H
BEGIN:VTIMEZONE
TZID:America/New_York
BEGIN:DAYLIGHT
TZOFFSETFROM:-0500
TZOFFSETTO:-0400
TZNAME:EDT
DTSTART:20250309T070000
END:DAYLIGHT
BEGIN:STANDARD
TZOFFSETFROM:-0400
TZOFFSETTO:-0500
TZNAME:EST
DTSTART:20251102T060000
END:STANDARD
BEGIN:DAYLIGHT
TZOFFSETFROM:-0500
TZOFFSETTO:-0400
TZNAME:EDT
DTSTART:20260308T070000
END:DAYLIGHT
BEGIN:STANDARD
TZOFFSETFROM:-0400
TZOFFSETTO:-0500
TZNAME:EST
DTSTART:20261101T060000
END:STANDARD
BEGIN:DAYLIGHT
TZOFFSETFROM:-0500
TZOFFSETTO:-0400
TZNAME:EDT
DTSTART:20270314T070000
END:DAYLIGHT
BEGIN:STANDARD
TZOFFSETFROM:-0400
TZOFFSETTO:-0500
TZNAME:EST
DTSTART:20271107T060000
END:STANDARD
END:VTIMEZONE
BEGIN:VEVENT
DTSTART;TZID=America/New_York:20260515T190000
DTEND;TZID=America/New_York:20260515T210000
DTSTAMP:20260421T140844
CREATED:20260421T124708Z
LAST-MODIFIED:20260421T124708Z
UID:10010358-1778871600-1778878800@visitulstercountyny.com
SUMMARY:Gimme Gimme Disco
DESCRIPTION:America’s most ICONIC disco party\, Gimme Gimme Disco\, is coming to Woodstock on 15 May 2026\, and it’s bringing nothing but glitter\, grooves\, and pure dance-floor joy. \nIf you can’t get enough of ABBA\, this is THE dance party for you! Gimme Gimme Disco is a DJ-based dance party spinning all your favorite ABBA anthems\, plus nonstop disco classics from the ’70s and ’80s. Expect hits from the Bee Gees\, Donna Summer\, Cher\, and more\, the kind of songs that make it impossible to stand still. Come ready to lay all your love on the dance floor\, sing at the top of your lungs\, and dance like nobody’s watching. \nSo honey honey\, take a chance. Put on your best disco fit\, don’t forget your dancing shoes\, but leave your worries behind. Whether you’re a lifelong dancing queen or just here for the vibes\, your crown awaits. This is the best disco since 1980\, sweaty\, euphoric\, and packed with feel-good energy from start to finish at Bearsville Theater on 15 May 2026.
URL:https://visitulstercountyny.com/event/gimme-gimme-disco/
LOCATION:Bearsville Theater\, 291 Tinker Street\, Woodstock\, NY\, 12498\, United States
ATTACH;FMTTYPE=image/jpeg:https://visitulstercountyny.com/wp-content/uploads/2026/04/Gimme-Gimme-Disco-142932.jpeg
ORGANIZER;CN="Gimme Gimme Disco":MAILTO:info@bearsvilletheater.com
END:VEVENT
END:VCALENDAR