BEGIN:VCALENDAR
VERSION:2.0
PRODID:-//UC Tourism Production - ECPv6.15.18//NONSGML v1.0//EN
CALSCALE:GREGORIAN
METHOD:PUBLISH
X-WR-CALNAME:UC Tourism Production
X-ORIGINAL-URL:https://visitulstercountyny.com
X-WR-CALDESC:Events for UC Tourism Production
REFRESH-INTERVAL;VALUE=DURATION:PT1H
X-Robots-Tag:noindex
X-PUBLISHED-TTL:PT1H
BEGIN:VTIMEZONE
TZID:America/New_York
BEGIN:DAYLIGHT
TZOFFSETFROM:-0500
TZOFFSETTO:-0400
TZNAME:EDT
DTSTART:20250309T070000
END:DAYLIGHT
BEGIN:STANDARD
TZOFFSETFROM:-0400
TZOFFSETTO:-0500
TZNAME:EST
DTSTART:20251102T060000
END:STANDARD
BEGIN:DAYLIGHT
TZOFFSETFROM:-0500
TZOFFSETTO:-0400
TZNAME:EDT
DTSTART:20260308T070000
END:DAYLIGHT
BEGIN:STANDARD
TZOFFSETFROM:-0400
TZOFFSETTO:-0500
TZNAME:EST
DTSTART:20261101T060000
END:STANDARD
BEGIN:DAYLIGHT
TZOFFSETFROM:-0500
TZOFFSETTO:-0400
TZNAME:EDT
DTSTART:20270314T070000
END:DAYLIGHT
BEGIN:STANDARD
TZOFFSETFROM:-0400
TZOFFSETTO:-0500
TZNAME:EST
DTSTART:20271107T060000
END:STANDARD
END:VTIMEZONE
BEGIN:VEVENT
DTSTART;TZID=America/New_York:20260228T190000
DTEND;TZID=America/New_York:20260228T203000
DTSTAMP:20260423T191029
CREATED:20260109T141627Z
LAST-MODIFIED:20260109T141627Z
UID:10009148-1772305200-1772310600@visitulstercountyny.com
SUMMARY:Witch
DESCRIPTION:The devil is here and moves through the village of Edmonton with the easy hungry charm of a therapist in sales\, sparking desire and discord in the townsfolk…until he meets the witch. A powerful connection is formed\, hidden loves are painfully revealed\, and the world stands on the brink of transformation in Jen Silverman’s biting dark comedy about the fragile hope for something better\, that lives in all of us. \nFor more information about the cast and crew\, as well as show updates\, follow this production at WitchPlayNY on Instagram.
URL:https://visitulstercountyny.com/event/witch/2026-02-28/
LOCATION:Old Dutch Church\, 272 Wall St\, Kingston\, NY\, 12401
CATEGORIES:Arts & Culture
ATTACH;FMTTYPE=image/jpeg:https://visitulstercountyny.com/wp-content/uploads/2026/01/witch-simpletix-header.jpg
ORGANIZER;CN="Gal and a Pal Productions":MAILTO:Witchplayny@gmail.com
END:VEVENT
BEGIN:VEVENT
DTSTART;TZID=America/New_York:20260227T190000
DTEND;TZID=America/New_York:20260227T203000
DTSTAMP:20260423T191029
CREATED:20260109T141627Z
LAST-MODIFIED:20260109T141627Z
UID:10009147-1772218800-1772224200@visitulstercountyny.com
SUMMARY:Witch
DESCRIPTION:The devil is here and moves through the village of Edmonton with the easy hungry charm of a therapist in sales\, sparking desire and discord in the townsfolk…until he meets the witch. A powerful connection is formed\, hidden loves are painfully revealed\, and the world stands on the brink of transformation in Jen Silverman’s biting dark comedy about the fragile hope for something better\, that lives in all of us. \nFor more information about the cast and crew\, as well as show updates\, follow this production at WitchPlayNY on Instagram.
URL:https://visitulstercountyny.com/event/witch/2026-02-27/
LOCATION:Old Dutch Church\, 272 Wall St\, Kingston\, NY\, 12401
CATEGORIES:Arts & Culture
ATTACH;FMTTYPE=image/jpeg:https://visitulstercountyny.com/wp-content/uploads/2026/01/witch-simpletix-header.jpg
ORGANIZER;CN="Gal and a Pal Productions":MAILTO:Witchplayny@gmail.com
END:VEVENT
BEGIN:VEVENT
DTSTART;TZID=America/New_York:20260226T190000
DTEND;TZID=America/New_York:20260226T203000
DTSTAMP:20260423T191029
CREATED:20260109T141627Z
LAST-MODIFIED:20260109T141627Z
UID:10009146-1772132400-1772137800@visitulstercountyny.com
SUMMARY:Witch
DESCRIPTION:The devil is here and moves through the village of Edmonton with the easy hungry charm of a therapist in sales\, sparking desire and discord in the townsfolk…until he meets the witch. A powerful connection is formed\, hidden loves are painfully revealed\, and the world stands on the brink of transformation in Jen Silverman’s biting dark comedy about the fragile hope for something better\, that lives in all of us. \nFor more information about the cast and crew\, as well as show updates\, follow this production at WitchPlayNY on Instagram.
URL:https://visitulstercountyny.com/event/witch/2026-02-26/
LOCATION:Old Dutch Church\, 272 Wall St\, Kingston\, NY\, 12401
CATEGORIES:Arts & Culture
ATTACH;FMTTYPE=image/jpeg:https://visitulstercountyny.com/wp-content/uploads/2026/01/witch-simpletix-header.jpg
ORGANIZER;CN="Gal and a Pal Productions":MAILTO:Witchplayny@gmail.com
END:VEVENT
BEGIN:VEVENT
DTSTART;TZID=America/New_York:20260221T190000
DTEND;TZID=America/New_York:20260221T203000
DTSTAMP:20260423T191029
CREATED:20260109T141627Z
LAST-MODIFIED:20260109T141627Z
UID:10009145-1771700400-1771705800@visitulstercountyny.com
SUMMARY:Witch
DESCRIPTION:The devil is here and moves through the village of Edmonton with the easy hungry charm of a therapist in sales\, sparking desire and discord in the townsfolk…until he meets the witch. A powerful connection is formed\, hidden loves are painfully revealed\, and the world stands on the brink of transformation in Jen Silverman’s biting dark comedy about the fragile hope for something better\, that lives in all of us. \nFor more information about the cast and crew\, as well as show updates\, follow this production at WitchPlayNY on Instagram.
URL:https://visitulstercountyny.com/event/witch/2026-02-21/
LOCATION:Old Dutch Church\, 272 Wall St\, Kingston\, NY\, 12401
CATEGORIES:Arts & Culture
ATTACH;FMTTYPE=image/jpeg:https://visitulstercountyny.com/wp-content/uploads/2026/01/witch-simpletix-header.jpg
ORGANIZER;CN="Gal and a Pal Productions":MAILTO:Witchplayny@gmail.com
END:VEVENT
BEGIN:VEVENT
DTSTART;TZID=America/New_York:20260220T190000
DTEND;TZID=America/New_York:20260220T203000
DTSTAMP:20260423T191029
CREATED:20260109T141627Z
LAST-MODIFIED:20260109T141627Z
UID:10009144-1771614000-1771619400@visitulstercountyny.com
SUMMARY:Witch
DESCRIPTION:The devil is here and moves through the village of Edmonton with the easy hungry charm of a therapist in sales\, sparking desire and discord in the townsfolk…until he meets the witch. A powerful connection is formed\, hidden loves are painfully revealed\, and the world stands on the brink of transformation in Jen Silverman’s biting dark comedy about the fragile hope for something better\, that lives in all of us. \nFor more information about the cast and crew\, as well as show updates\, follow this production at WitchPlayNY on Instagram.
URL:https://visitulstercountyny.com/event/witch/2026-02-20/
LOCATION:Old Dutch Church\, 272 Wall St\, Kingston\, NY\, 12401
CATEGORIES:Arts & Culture
ATTACH;FMTTYPE=image/jpeg:https://visitulstercountyny.com/wp-content/uploads/2026/01/witch-simpletix-header.jpg
ORGANIZER;CN="Gal and a Pal Productions":MAILTO:Witchplayny@gmail.com
END:VEVENT
END:VCALENDAR