BEGIN:VCALENDAR
VERSION:2.0
PRODID:-//UC Tourism Production - ECPv6.15.18//NONSGML v1.0//EN
CALSCALE:GREGORIAN
METHOD:PUBLISH
X-WR-CALNAME:UC Tourism Production
X-ORIGINAL-URL:https://visitulstercountyny.com
X-WR-CALDESC:Events for UC Tourism Production
REFRESH-INTERVAL;VALUE=DURATION:PT1H
X-Robots-Tag:noindex
X-PUBLISHED-TTL:PT1H
BEGIN:VTIMEZONE
TZID:America/New_York
BEGIN:DAYLIGHT
TZOFFSETFROM:-0500
TZOFFSETTO:-0400
TZNAME:EDT
DTSTART:20250309T070000
END:DAYLIGHT
BEGIN:STANDARD
TZOFFSETFROM:-0400
TZOFFSETTO:-0500
TZNAME:EST
DTSTART:20251102T060000
END:STANDARD
BEGIN:DAYLIGHT
TZOFFSETFROM:-0500
TZOFFSETTO:-0400
TZNAME:EDT
DTSTART:20260308T070000
END:DAYLIGHT
BEGIN:STANDARD
TZOFFSETFROM:-0400
TZOFFSETTO:-0500
TZNAME:EST
DTSTART:20261101T060000
END:STANDARD
BEGIN:DAYLIGHT
TZOFFSETFROM:-0500
TZOFFSETTO:-0400
TZNAME:EDT
DTSTART:20270314T070000
END:DAYLIGHT
BEGIN:STANDARD
TZOFFSETFROM:-0400
TZOFFSETTO:-0500
TZNAME:EST
DTSTART:20271107T060000
END:STANDARD
END:VTIMEZONE
BEGIN:VEVENT
DTSTART;TZID=America/New_York:20260415T193000
DTEND;TZID=America/New_York:20260415T210000
DTSTAMP:20260423T045700
CREATED:20260406T150242Z
LAST-MODIFIED:20260406T150242Z
UID:10010278-1776281400-1776286800@visitulstercountyny.com
SUMMARY:Aaron Foster "Mostly Jokes" | Stand Up Comedy
DESCRIPTION:Comedian and former HGTV host brings “Mostly Jokes” to the James Kleinart Gallery at the Birdcliffe Guild for one night only as he prepares to tape his first special. It’s raw\, honest and sometimes dark comedy about mental health\, mid-life and an occasional Paul Rudd joke because\, well\, why not? Also\, Foster promises that he doesn’t do crowd work.
URL:https://visitulstercountyny.com/event/aaron-foster-mostly-jokes-stand-up-comedy/
LOCATION:Woodstock Byrdcliffe Guild\, 36 Tinker Street\, Woodstock\, 12498
CATEGORIES:Comedy
ATTACH;FMTTYPE=image/jpeg:https://visitulstercountyny.com/wp-content/uploads/2026/04/Woodstock2x3-scaled.jpg
END:VEVENT
BEGIN:VEVENT
DTSTART;TZID=America/New_York:20260411T140000
DTEND;TZID=America/New_York:20260411T190000
DTSTAMP:20260423T045700
CREATED:20260305T183231Z
LAST-MODIFIED:20260305T183231Z
UID:10010138-1775916000-1775934000@visitulstercountyny.com
SUMMARY:Chili Bowl Fest at Women's Studio Workshop
DESCRIPTION:On April 11th\, Women’s Studio Workshop’s beloved Chili Bowl Fest Fundraiser returns! For over a quarter century\, guests have enjoyed this celebration of community and ceramics–shopping from hundreds of handmade bowls and mugs\, with all of the proceeds of the sale going to support WSW’s artistic programming. This year\, we will be hosting both an online and in-person sale! \nThe in-person sale will take place from 2-7PM at Women’s Studio Workshop!\n2-4PM: Early admission $10 *Kids get in for free!*\n4-7PM: Free! \nEach bowl purchase comes with a free serving of chili donated by dozens of local eateries! \nThe Online Sale will open at 10AM on April 11th. Each piece will be double-boxed\, carefully packaged with recyclable materials\, and mailed directly to your door for ultimate safety and ease. Be sure to bookmark the page and set your alarms\, because these bowls will sell out fast! https://bit.ly/ChiliBowlOnline
URL:https://visitulstercountyny.com/event/chili-bowl-fest-at-womens-studio-workshop/
LOCATION:Women’s Studio Workshop\, 722 Binnewater Lane\, Rosendale\, NY\, 12401
CATEGORIES:Fairs & Festivals
ATTACH;FMTTYPE=image/jpeg:https://visitulstercountyny.com/wp-content/uploads/2026/03/ChiliBowlFest2026_PosterbyEllieSwanson-scaled.jpg
ORGANIZER;CN="Women's Studio Workshop":MAILTO:info@wsworkshop.org
END:VEVENT
BEGIN:VEVENT
DTSTART;TZID=America/New_York:20260408T183000
DTEND;TZID=America/New_York:20260408T193000
DTSTAMP:20260423T045700
CREATED:20260406T145106Z
LAST-MODIFIED:20260406T145106Z
UID:10010277-1775673000-1775676600@visitulstercountyny.com
SUMMARY:Murder Bimbo Book Launch
DESCRIPTION:Author Rebecca Novack joins us to celebrate the publication of her debut novel Murder Bimbo\, which Catherine Lacey described as “Gone Girl for the Luigi Mangione era.” The exhilaratingly twisty story of a sex worker turned political assassin on the run\, Murder Bimbo is an unputdownable and wholly fresh take on truth\, murder\, and optics in our national moment. She’ll be joined in conversation by fellow author (and friend of the store) M. Maeve Eagan.
URL:https://visitulstercountyny.com/event/murder-bimbo-book-launch/
LOCATION:Inquiring Minds Bookstore & Cafe\, 200 Main St\, Saugerties\, 12497
CATEGORIES:Lecture
ATTACH;FMTTYPE=image/jpeg:https://visitulstercountyny.com/wp-content/uploads/2026/04/Rebecca-Novack-Newsletter-JPG.jpeg
ORGANIZER;CN="inquiring minds bookstore &amp%3B cafe":MAILTO:theinquiringmind1@gmail.com
END:VEVENT
BEGIN:VEVENT
DTSTART;TZID=America/New_York:20260404T160000
DTEND;TZID=America/New_York:20260404T180000
DTSTAMP:20260423T045700
CREATED:20260316T161237Z
LAST-MODIFIED:20260316T161237Z
UID:10010220-1775318400-1775325600@visitulstercountyny.com
SUMMARY:Matter Out of Place - Opening Reception
DESCRIPTION:This exhibition brings together six invited artists who work with found objects\, transforming overlooked materials into works of new meaning and possibility. Through the process of reimagining\, these artists advocate for environmental concerns\, drawing attention to using discarded materials while approaching their own creative practices with intentionality and care. \nThe exhibition is presented in conjunction with Trash Chic! at The Sketchbook Gallery.
URL:https://visitulstercountyny.com/event/matter-out-of-place-opening-reception/
LOCATION:Jane St. Art Center\, 11 Jane Street\, Suite A\, Saugerties\, 12477
CATEGORIES:Home & Design,Show
ATTACH;FMTTYPE=image/png:https://visitulstercountyny.com/wp-content/uploads/2026/03/Matter-Out-of-Place.png
ORGANIZER;CN="Jane St. Art Center":MAILTO:info@janestreetartcenter.com
END:VEVENT
BEGIN:VEVENT
DTSTART;TZID=America/New_York:20260404T160000
DTEND;TZID=America/New_York:20260404T180000
DTSTAMP:20260423T045700
CREATED:20260316T160110Z
LAST-MODIFIED:20260316T160110Z
UID:10010223-1775318400-1775325600@visitulstercountyny.com
SUMMARY:Trash Chic! - Opening Reception
DESCRIPTION:Trash Chic!\, at The Sketchbook Gallery\, is a celebration of creativity that transforms the often discarded\, overlooked\, and thrown away. This diverse group of artists challenge the ideas of value\, beauty\, and permanence while highlighting the potential within what we throw away. We invite viewers to reconsider what “trash”is and discover how imagination can turn trash into something striking\, meaningful\, and new. \nThis exhibition is in conjunction with Matter Out of Place at Jane St. Art.
URL:https://visitulstercountyny.com/event/trash-chic-opening-reception/
LOCATION:The Sketchbook Gallery\, 9 Jane Street\, Saugerties\, 12477
CATEGORIES:Show
ATTACH;FMTTYPE=image/png:https://visitulstercountyny.com/wp-content/uploads/2026/03/Trash-Chic-Promo-Front.png
ORGANIZER;CN="Jane St. Art Center":MAILTO:info@janestreetartcenter.com
END:VEVENT
BEGIN:VEVENT
DTSTART;TZID=America/New_York:20260402T110000
DTEND;TZID=America/New_York:20260403T180000
DTSTAMP:20260423T045700
CREATED:20260211T164929Z
LAST-MODIFIED:20260211T164929Z
UID:10010017-1775127600-1775239200@visitulstercountyny.com
SUMMARY:Easter Fun at Hurds Family Farm
DESCRIPTION:Celebrate Easter on the Farm! \nCome join us for a day of Easter fun that the whole family will love! Our family farm is the perfect place to play\, explore\, and make springtime memories together!
URL:https://visitulstercountyny.com/event/easter-fun-at-hurds-family-farm/
LOCATION:Hurds Family Farm\, 2187 State Route 32\, Modena\, 12548
ATTACH;FMTTYPE=image/png:https://visitulstercountyny.com/wp-content/uploads/2026/02/Easter-Fun-at-Hurds-Family-Farm.png
ORGANIZER;CN="Hurds Family Farm":MAILTO:hurdsdrivethrufarmstore@gmail.com
END:VEVENT
BEGIN:VEVENT
DTSTART;TZID=America/New_York:20260328T180000
DTEND;TZID=America/New_York:20260328T200000
DTSTAMP:20260423T045700
CREATED:20260309T131251Z
LAST-MODIFIED:20260309T131251Z
UID:10010206-1774720800-1774728000@visitulstercountyny.com
SUMMARY:An Evening with Spirit
DESCRIPTION:An Evening of Spirit Connection at Mountain View Studio with Mediums Daisy & Arlene. \nJoin us for an intimate mediumship gallery experience as we connect with loved ones in Spirit in a grounded\, heartfelt way. \nOur unique partnership creates a warm atmosphere of healing and comfort that is deeply felt by everyone in the room. \nWhat to expect:\n• Live spirit connections\n• A warm\, intimate group setting\n• Healing messages and moments of humor and heart \nSeating is limited! All of our events have sold out\, so I recommend buying your tickets early.
URL:https://visitulstercountyny.com/event/an-evening-with-spirit/
LOCATION:Mountain View Studio\, 20 Mountainview Ave\, Woodstock\, NY\, 12498
ATTACH;FMTTYPE=image/png:https://visitulstercountyny.com/wp-content/uploads/2026/03/SC-TOUR-MOUNTAIN-VIEW.png
ORGANIZER;CN="Medium Daisy":MAILTO:info@daisyfarrell.com
END:VEVENT
BEGIN:VEVENT
DTSTART;TZID=America/New_York:20260328T090000
DTEND;TZID=America/New_York:20260328T150000
DTSTAMP:20260423T045700
CREATED:20260107T195554Z
LAST-MODIFIED:20260107T195554Z
UID:10009141-1774688400-1774710000@visitulstercountyny.com
SUMMARY:Healthy Apple Tree Workshop at Hurds Family Farm
DESCRIPTION:Do you have an apple tree in your yard and wonder what can I do to help ensure my crop does not get a disease or be damaged by bad bugs? \nCome to the farm for this workshop with lead grower and owner Charles Hurd to learn about some of the scouting you should be doing\, and what you can do if you see a problem. Learn how to prevent and treat some of the most common pests that can affect the health of your home apple trees. \n9:00–10:30 AM – Adult Only \n11:00 AM–12:30 PM – Adult Only \n​1:00–2:30 PM – Family-Friendly \n3:00–4:30 PM – Family-Friendly
URL:https://visitulstercountyny.com/event/healthy-apple-tree-workshop-at-hurds-family-farm/
LOCATION:Hurds Family Farm\, 2187 State Route 32\, Modena\, 12548
ATTACH;FMTTYPE=image/png:https://visitulstercountyny.com/wp-content/uploads/2026/01/Healthy-Apple-Tree-Workshop.png
ORGANIZER;CN="Hurds Family Farm":MAILTO:hurdsdrivethrufarmstore@gmail.com
END:VEVENT
BEGIN:VEVENT
DTSTART;TZID=America/New_York:20260322T120000
DTEND;TZID=America/New_York:20260406T150000
DTSTAMP:20260423T045700
CREATED:20260303T152410Z
LAST-MODIFIED:20260303T152410Z
UID:10010125-1774180800-1775487600@visitulstercountyny.com
SUMMARY:Inspiration - Art by the Boys and Girls Club - Exhibition
DESCRIPTION:In collaboration with the Boys and Girls Club of Saugerties and Kingston\, we welcome 16 young artists to showcase their work in The Sketchbook Gallery under the direction of Lindsey Quick from the Boys and Girls Club of Ulster County. Come celebrate our first exhibition of the 2026 season by supporting our local community! This exhibition will be up from March 7 – March 22\, 2025 on Saturdays and Sundays from 12-4pm. The opening reception is Sat\, March 1 from 2-4pm.
URL:https://visitulstercountyny.com/event/inspiration-art-by-the-boys-and-girls-club-exhibition/2026-03-22/
LOCATION:The Sketchbook Gallery\, 9 Jane Street\, Saugerties\, 12477
CATEGORIES:Show
ATTACH;FMTTYPE=image/png:https://visitulstercountyny.com/wp-content/uploads/2026/03/B-and-G-2026-Front.png
ORGANIZER;CN="Jane St. Art Center":MAILTO:info@janestreetartcenter.com
END:VEVENT
BEGIN:VEVENT
DTSTART;TZID=America/New_York:20260321T120000
DTEND;TZID=America/New_York:20260405T150000
DTSTAMP:20260423T045700
CREATED:20260303T152410Z
LAST-MODIFIED:20260303T152410Z
UID:10010124-1774094400-1775401200@visitulstercountyny.com
SUMMARY:Inspiration - Art by the Boys and Girls Club - Exhibition
DESCRIPTION:In collaboration with the Boys and Girls Club of Saugerties and Kingston\, we welcome 16 young artists to showcase their work in The Sketchbook Gallery under the direction of Lindsey Quick from the Boys and Girls Club of Ulster County. Come celebrate our first exhibition of the 2026 season by supporting our local community! This exhibition will be up from March 7 – March 22\, 2025 on Saturdays and Sundays from 12-4pm. The opening reception is Sat\, March 1 from 2-4pm.
URL:https://visitulstercountyny.com/event/inspiration-art-by-the-boys-and-girls-club-exhibition/2026-03-21/
LOCATION:The Sketchbook Gallery\, 9 Jane Street\, Saugerties\, 12477
CATEGORIES:Show
ATTACH;FMTTYPE=image/png:https://visitulstercountyny.com/wp-content/uploads/2026/03/B-and-G-2026-Front.png
ORGANIZER;CN="Jane St. Art Center":MAILTO:info@janestreetartcenter.com
END:VEVENT
BEGIN:VEVENT
DTSTART;TZID=America/New_York:20260319T173000
DTEND;TZID=America/New_York:20260319T203000
DTSTAMP:20260423T045700
CREATED:20260309T131005Z
LAST-MODIFIED:20260309T131005Z
UID:10010142-1773941400-1773952200@visitulstercountyny.com
SUMMARY:Penelope Bourbon Dinner
DESCRIPTION:Enjoy a Penelope bourbon 5 course dinner complete with rare tastings including Havana\, Private Select 10yr\, American Light 18yr\, and more. Five course dinner includes oysters\, catfish\, wild boar\, and venison alongside several different Penelopes\, including the unicorn of Pepelopes\, the American Light 18yr.
URL:https://visitulstercountyny.com/event/penelope-bourbon-dinner/
LOCATION:The Ridge by Mill House\, 387 South St\, Highland\, 12528
CATEGORIES:Food & Drink
ATTACH;FMTTYPE=image/jpeg:https://visitulstercountyny.com/wp-content/uploads/2026/03/Penelope-Bottles-HOR-scaled.jpg
ORGANIZER;CN="The Ridge by Mill House":MAILTO:kim@millhousebrewing.com
END:VEVENT
BEGIN:VEVENT
DTSTART;TZID=America/New_York:20260315T120000
DTEND;TZID=America/New_York:20260330T150000
DTSTAMP:20260423T045700
CREATED:20260303T152410Z
LAST-MODIFIED:20260303T152410Z
UID:10010123-1773576000-1774882800@visitulstercountyny.com
SUMMARY:Inspiration - Art by the Boys and Girls Club - Exhibition
DESCRIPTION:In collaboration with the Boys and Girls Club of Saugerties and Kingston\, we welcome 16 young artists to showcase their work in The Sketchbook Gallery under the direction of Lindsey Quick from the Boys and Girls Club of Ulster County. Come celebrate our first exhibition of the 2026 season by supporting our local community! This exhibition will be up from March 7 – March 22\, 2025 on Saturdays and Sundays from 12-4pm. The opening reception is Sat\, March 1 from 2-4pm.
URL:https://visitulstercountyny.com/event/inspiration-art-by-the-boys-and-girls-club-exhibition/2026-03-15/
LOCATION:The Sketchbook Gallery\, 9 Jane Street\, Saugerties\, 12477
CATEGORIES:Show
ATTACH;FMTTYPE=image/png:https://visitulstercountyny.com/wp-content/uploads/2026/03/B-and-G-2026-Front.png
ORGANIZER;CN="Jane St. Art Center":MAILTO:info@janestreetartcenter.com
END:VEVENT
BEGIN:VEVENT
DTSTART;TZID=America/New_York:20260314T120000
DTEND;TZID=America/New_York:20260329T150000
DTSTAMP:20260423T045700
CREATED:20260303T152410Z
LAST-MODIFIED:20260303T152410Z
UID:10010122-1773489600-1774796400@visitulstercountyny.com
SUMMARY:Inspiration - Art by the Boys and Girls Club - Exhibition
DESCRIPTION:In collaboration with the Boys and Girls Club of Saugerties and Kingston\, we welcome 16 young artists to showcase their work in The Sketchbook Gallery under the direction of Lindsey Quick from the Boys and Girls Club of Ulster County. Come celebrate our first exhibition of the 2026 season by supporting our local community! This exhibition will be up from March 7 – March 22\, 2025 on Saturdays and Sundays from 12-4pm. The opening reception is Sat\, March 1 from 2-4pm.
URL:https://visitulstercountyny.com/event/inspiration-art-by-the-boys-and-girls-club-exhibition/2026-03-14/
LOCATION:The Sketchbook Gallery\, 9 Jane Street\, Saugerties\, 12477
CATEGORIES:Show
ATTACH;FMTTYPE=image/png:https://visitulstercountyny.com/wp-content/uploads/2026/03/B-and-G-2026-Front.png
ORGANIZER;CN="Jane St. Art Center":MAILTO:info@janestreetartcenter.com
END:VEVENT
BEGIN:VEVENT
DTSTART;TZID=America/New_York:20260311T200000
DTEND;TZID=America/New_York:20260411T220000
DTSTAMP:20260423T045700
CREATED:20260311T204123Z
LAST-MODIFIED:20260311T204123Z
UID:10010211-1773259200-1775944800@visitulstercountyny.com
SUMMARY:An Evening of Jazz with Sean Schulich
DESCRIPTION:Sean Schulich returns to the Kleinert James Gallery with his five piece band before heading South to perform at the New Orleans Jazz Festival.  This year Sean has been honored with his first commission by the American Composers Forum for their Recomposing America series — a multi-year initiative that considers the role of music in the narrative of our nation’s founding and future. Sean will debut this work at the Kleinert James Gallery performance.
URL:https://visitulstercountyny.com/event/an-evening-of-jazz-with-sean-schulich/
LOCATION:Kleinert/James Center for the Arts\, 36 Tinker Street\, Woodstock\, 12498
CATEGORIES:Music
ATTACH;FMTTYPE=image/jpeg:https://visitulstercountyny.com/wp-content/uploads/2026/03/LoveShirt12.2.25-2.06.30-PM.jpeg
END:VEVENT
BEGIN:VEVENT
DTSTART;TZID=America/New_York:20260308T120000
DTEND;TZID=America/New_York:20260323T150000
DTSTAMP:20260423T045700
CREATED:20260303T152410Z
LAST-MODIFIED:20260303T152410Z
UID:10010121-1772971200-1774278000@visitulstercountyny.com
SUMMARY:Inspiration - Art by the Boys and Girls Club - Exhibition
DESCRIPTION:In collaboration with the Boys and Girls Club of Saugerties and Kingston\, we welcome 16 young artists to showcase their work in The Sketchbook Gallery under the direction of Lindsey Quick from the Boys and Girls Club of Ulster County. Come celebrate our first exhibition of the 2026 season by supporting our local community! This exhibition will be up from March 7 – March 22\, 2025 on Saturdays and Sundays from 12-4pm. The opening reception is Sat\, March 1 from 2-4pm.
URL:https://visitulstercountyny.com/event/inspiration-art-by-the-boys-and-girls-club-exhibition/2026-03-08/
LOCATION:The Sketchbook Gallery\, 9 Jane Street\, Saugerties\, 12477
CATEGORIES:Show
ATTACH;FMTTYPE=image/png:https://visitulstercountyny.com/wp-content/uploads/2026/03/B-and-G-2026-Front.png
ORGANIZER;CN="Jane St. Art Center":MAILTO:info@janestreetartcenter.com
END:VEVENT
BEGIN:VEVENT
DTSTART;TZID=America/New_York:20260307T120000
DTEND;TZID=America/New_York:20260322T160000
DTSTAMP:20260423T045700
CREATED:20260303T152410Z
LAST-MODIFIED:20260303T152410Z
UID:10010120-1772884800-1774195200@visitulstercountyny.com
SUMMARY:Inspiration - Art by the Boys and Girls Club - Exhibition
DESCRIPTION:In collaboration with the Boys and Girls Club of Saugerties and Kingston\, we welcome 16 young artists to showcase their work in The Sketchbook Gallery under the direction of Lindsey Quick from the Boys and Girls Club of Ulster County. Come celebrate our first exhibition of the 2026 season by supporting our local community! This exhibition will be up from March 7 – March 22\, 2025 on Saturdays and Sundays from 12-4pm. The opening reception is Sat\, March 1 from 2-4pm.
URL:https://visitulstercountyny.com/event/inspiration-art-by-the-boys-and-girls-club-exhibition/2026-03-07/
LOCATION:The Sketchbook Gallery\, 9 Jane Street\, Saugerties\, 12477
CATEGORIES:Show
ATTACH;FMTTYPE=image/png:https://visitulstercountyny.com/wp-content/uploads/2026/03/B-and-G-2026-Front.png
ORGANIZER;CN="Jane St. Art Center":MAILTO:info@janestreetartcenter.com
END:VEVENT
BEGIN:VEVENT
DTSTART;TZID=America/New_York:20260208T090000
DTEND;TZID=America/New_York:20260208T120000
DTSTAMP:20260423T045700
CREATED:20260202T151239Z
LAST-MODIFIED:20260202T151239Z
UID:10009313-1770541200-1770552000@visitulstercountyny.com
SUMMARY:Valentine's Day Party at Play Haven!
DESCRIPTION:Celebrate Valentine’s Day with Play Haven! Enjoy this special Stay & Play event on Sunday\, Feb 8th 9am-12pm with crafting\, snacks\, playing\, and fun! Ideal for crawlers up to age  6 years. $20 entry fee\, $15 sibling rate. Adults must stay and supervise their children.
URL:https://visitulstercountyny.com/event/valentines-day-party-at-play-haven/
LOCATION:Play Haven\, 320 Sawkill Road\, Kingston\, 12401
ATTACH;FMTTYPE=image/png:https://visitulstercountyny.com/wp-content/uploads/2026/01/Social-Event-Posts-5.png
ORGANIZER;CN="Play Haven":MAILTO:info@playhavenny.com
END:VEVENT
BEGIN:VEVENT
DTSTART;TZID=America/New_York:20260207T190000
DTEND;TZID=America/New_York:20260207T213000
DTSTAMP:20260423T045700
CREATED:20260112T214015Z
LAST-MODIFIED:20260112T214015Z
UID:10009157-1770490800-1770499800@visitulstercountyny.com
SUMMARY:Swan Lake – International Ballet Stars
DESCRIPTION:Experience the world’s most in-demand ballet\, Swan Lake\, presented by Classical Arts Entertainment and performed by International Ballet Stars. This full-scale production features Tchaikovsky’s legendary score and brings the masterpiece choreography by Marius Petipa and Lev Ivanov to life. \nBe spellbound by the iconic variation of the Little Swans\, Odile’s 32 fouettés\, and the graceful movements of the talented ballet dancers. With over 200 custom scenery pieces adding grandeur and beauty\, this production promises to be a spectacular visual treat. \nFeaturing a brilliant cast of dancers from Italy\, France\, Georgia\, Great Britain\, Ukraine\, Japan\, Moldova\, Armenia\, and Kyrgyzstan\, this tour celebrates the diversity and global excellence of classical ballet. \nCall the Box Office for Senior\, Child\, and Group Discounts – 845.339.6088
URL:https://visitulstercountyny.com/event/swan-lake-international-ballet-stars/
LOCATION:Ulster Performing Arts Center\, 601 Broadway\, Kingston\, NY\, 12401
CATEGORIES:Dance
ATTACH;FMTTYPE=image/jpeg:https://visitulstercountyny.com/wp-content/uploads/2026/01/SWAN-LAKE-FEB.07.26-UPAC.jpg
ORGANIZER;CN="Bardavon Presents":MAILTO:boxoffice@bardavon.org
END:VEVENT
BEGIN:VEVENT
DTSTART;TZID=America/New_York:20260201T103000
DTEND;TZID=America/New_York:20260228T113000
DTSTAMP:20260423T045700
CREATED:20260114T154353Z
LAST-MODIFIED:20260114T154353Z
UID:10009160-1769941800-1772278200@visitulstercountyny.com
SUMMARY:Februa-RYE All Month Long & RYE Day 2/28
DESCRIPTION:Tuthilltown Distillery will be hosting our 2nd Annual Februa-RYE and RYE Day\, drawing focus on NYs favorite grain – rye. \nWorking with the NY Distiller’s Guild and NY rye product producers\, we hope to grow the event year over year\, transcending Rye Whiskey to include food and ag applications of rye – including Glynwood Center’s work in the agricultural area\, bakeries such as Black Rooster Bread and it’s work in high rye content offerings\, and even Sfoglini Pasta offering a rye pasta option. \nAll rye product producers are encouraged to focus on rye in February with a number of producers being hosted on site at the distillery 2/28 for visitors to sample and explore a small sample of what this amazing grain can do.
URL:https://visitulstercountyny.com/event/februa-rye-all-month-long-rye-day-2-28/
LOCATION:Tuthilltown Spirits\, 14 Grist Mill Ln\, Gardiner\, 12525
CATEGORIES:Food & Drink
ATTACH;FMTTYPE=image/jpeg:https://visitulstercountyny.com/wp-content/uploads/2026/01/Copy-of-Copy-of-All-February-Instagram-Post-45-2.jpg
ORGANIZER;CN="Tuthilltown Spirits":MAILTO:hello@hudsonwhiskey.com
END:VEVENT
END:VCALENDAR