BEGIN:VCALENDAR
VERSION:2.0
PRODID:-//UC Tourism Production - ECPv6.15.18//NONSGML v1.0//EN
CALSCALE:GREGORIAN
METHOD:PUBLISH
X-ORIGINAL-URL:https://visitulstercountyny.com
X-WR-CALDESC:Events for UC Tourism Production
REFRESH-INTERVAL;VALUE=DURATION:PT1H
X-Robots-Tag:noindex
X-PUBLISHED-TTL:PT1H
BEGIN:VTIMEZONE
TZID:America/New_York
BEGIN:DAYLIGHT
TZOFFSETFROM:-0500
TZOFFSETTO:-0400
TZNAME:EDT
DTSTART:20250309T070000
END:DAYLIGHT
BEGIN:STANDARD
TZOFFSETFROM:-0400
TZOFFSETTO:-0500
TZNAME:EST
DTSTART:20251102T060000
END:STANDARD
BEGIN:DAYLIGHT
TZOFFSETFROM:-0500
TZOFFSETTO:-0400
TZNAME:EDT
DTSTART:20260308T070000
END:DAYLIGHT
BEGIN:STANDARD
TZOFFSETFROM:-0400
TZOFFSETTO:-0500
TZNAME:EST
DTSTART:20261101T060000
END:STANDARD
BEGIN:DAYLIGHT
TZOFFSETFROM:-0500
TZOFFSETTO:-0400
TZNAME:EDT
DTSTART:20270314T070000
END:DAYLIGHT
BEGIN:STANDARD
TZOFFSETFROM:-0400
TZOFFSETTO:-0500
TZNAME:EST
DTSTART:20271107T060000
END:STANDARD
END:VTIMEZONE
BEGIN:VEVENT
DTSTART;TZID=America/New_York:20260822T110000
DTEND;TZID=America/New_York:20260822T170000
DTSTAMP:20260425T145532
CREATED:20251230T211120Z
LAST-MODIFIED:20260105T195150Z
UID:10009125-1787396400-1787418000@visitulstercountyny.com
SUMMARY:CPW Launches Open Call for Upcoming Upstate Photography Biennial
DESCRIPTION:Open call for submissions from artists!
URL:https://visitulstercountyny.com/event/cpw-launches-open-call-for-upcoming-upstate-photography-biennial/2026-08-22/
LOCATION:Center for Photography at Woodstock\, 25 Dederick St.\, Kingston\, 12401
ATTACH;FMTTYPE=image/png:https://visitulstercountyny.com/wp-content/uploads/2025/12/Screenshot-2025-12-29-at-10.39.31-AM.png
ORGANIZER;CN="The Center for Photography at Woodstock":MAILTO:info@cpw.org
END:VEVENT
BEGIN:VEVENT
DTSTART;TZID=America/New_York:20260827T110000
DTEND;TZID=America/New_York:20260827T170000
DTSTAMP:20260425T145532
CREATED:20251230T211120Z
LAST-MODIFIED:20260105T195150Z
UID:10009126-1787828400-1787850000@visitulstercountyny.com
SUMMARY:CPW Launches Open Call for Upcoming Upstate Photography Biennial
DESCRIPTION:Open call for submissions from artists!
URL:https://visitulstercountyny.com/event/cpw-launches-open-call-for-upcoming-upstate-photography-biennial/2026-08-27/
LOCATION:Center for Photography at Woodstock\, 25 Dederick St.\, Kingston\, 12401
ATTACH;FMTTYPE=image/png:https://visitulstercountyny.com/wp-content/uploads/2025/12/Screenshot-2025-12-29-at-10.39.31-AM.png
ORGANIZER;CN="The Center for Photography at Woodstock":MAILTO:info@cpw.org
END:VEVENT
BEGIN:VEVENT
DTSTART;TZID=America/New_York:20260828T110000
DTEND;TZID=America/New_York:20260828T170000
DTSTAMP:20260425T145532
CREATED:20251230T211120Z
LAST-MODIFIED:20260105T195150Z
UID:10009127-1787914800-1787936400@visitulstercountyny.com
SUMMARY:CPW Launches Open Call for Upcoming Upstate Photography Biennial
DESCRIPTION:Open call for submissions from artists!
URL:https://visitulstercountyny.com/event/cpw-launches-open-call-for-upcoming-upstate-photography-biennial/2026-08-28/
LOCATION:Center for Photography at Woodstock\, 25 Dederick St.\, Kingston\, 12401
ATTACH;FMTTYPE=image/png:https://visitulstercountyny.com/wp-content/uploads/2025/12/Screenshot-2025-12-29-at-10.39.31-AM.png
ORGANIZER;CN="The Center for Photography at Woodstock":MAILTO:info@cpw.org
END:VEVENT
BEGIN:VEVENT
DTSTART;TZID=America/New_York:20260829T110000
DTEND;TZID=America/New_York:20260829T170000
DTSTAMP:20260425T145532
CREATED:20251230T211120Z
LAST-MODIFIED:20260105T195150Z
UID:10009128-1788001200-1788022800@visitulstercountyny.com
SUMMARY:CPW Launches Open Call for Upcoming Upstate Photography Biennial
DESCRIPTION:Open call for submissions from artists!
URL:https://visitulstercountyny.com/event/cpw-launches-open-call-for-upcoming-upstate-photography-biennial/2026-08-29/
LOCATION:Center for Photography at Woodstock\, 25 Dederick St.\, Kingston\, 12401
ATTACH;FMTTYPE=image/png:https://visitulstercountyny.com/wp-content/uploads/2025/12/Screenshot-2025-12-29-at-10.39.31-AM.png
ORGANIZER;CN="The Center for Photography at Woodstock":MAILTO:info@cpw.org
END:VEVENT
BEGIN:VEVENT
DTSTART;TZID=America/New_York:20260903T110000
DTEND;TZID=America/New_York:20260903T170000
DTSTAMP:20260425T145532
CREATED:20251230T211120Z
LAST-MODIFIED:20260105T195150Z
UID:10009129-1788433200-1788454800@visitulstercountyny.com
SUMMARY:CPW Launches Open Call for Upcoming Upstate Photography Biennial
DESCRIPTION:Open call for submissions from artists!
URL:https://visitulstercountyny.com/event/cpw-launches-open-call-for-upcoming-upstate-photography-biennial/2026-09-03/
LOCATION:Center for Photography at Woodstock\, 25 Dederick St.\, Kingston\, 12401
ATTACH;FMTTYPE=image/png:https://visitulstercountyny.com/wp-content/uploads/2025/12/Screenshot-2025-12-29-at-10.39.31-AM.png
ORGANIZER;CN="The Center for Photography at Woodstock":MAILTO:info@cpw.org
END:VEVENT
BEGIN:VEVENT
DTSTART;TZID=America/New_York:20260904T110000
DTEND;TZID=America/New_York:20260904T170000
DTSTAMP:20260425T145532
CREATED:20251230T211120Z
LAST-MODIFIED:20260105T195150Z
UID:10009130-1788519600-1788541200@visitulstercountyny.com
SUMMARY:CPW Launches Open Call for Upcoming Upstate Photography Biennial
DESCRIPTION:Open call for submissions from artists!
URL:https://visitulstercountyny.com/event/cpw-launches-open-call-for-upcoming-upstate-photography-biennial/2026-09-04/
LOCATION:Center for Photography at Woodstock\, 25 Dederick St.\, Kingston\, 12401
ATTACH;FMTTYPE=image/png:https://visitulstercountyny.com/wp-content/uploads/2025/12/Screenshot-2025-12-29-at-10.39.31-AM.png
ORGANIZER;CN="The Center for Photography at Woodstock":MAILTO:info@cpw.org
END:VEVENT
BEGIN:VEVENT
DTSTART;TZID=America/New_York:20260905T110000
DTEND;TZID=America/New_York:20260905T170000
DTSTAMP:20260425T145532
CREATED:20251230T211120Z
LAST-MODIFIED:20260105T195150Z
UID:10009131-1788606000-1788627600@visitulstercountyny.com
SUMMARY:CPW Launches Open Call for Upcoming Upstate Photography Biennial
DESCRIPTION:Open call for submissions from artists!
URL:https://visitulstercountyny.com/event/cpw-launches-open-call-for-upcoming-upstate-photography-biennial/2026-09-05/
LOCATION:Center for Photography at Woodstock\, 25 Dederick St.\, Kingston\, 12401
ATTACH;FMTTYPE=image/png:https://visitulstercountyny.com/wp-content/uploads/2025/12/Screenshot-2025-12-29-at-10.39.31-AM.png
ORGANIZER;CN="The Center for Photography at Woodstock":MAILTO:info@cpw.org
END:VEVENT
BEGIN:VEVENT
DTSTART;TZID=America/New_York:20260910T110000
DTEND;TZID=America/New_York:20260910T170000
DTSTAMP:20260425T145532
CREATED:20251230T211120Z
LAST-MODIFIED:20260105T195150Z
UID:10009132-1789038000-1789059600@visitulstercountyny.com
SUMMARY:CPW Launches Open Call for Upcoming Upstate Photography Biennial
DESCRIPTION:Open call for submissions from artists!
URL:https://visitulstercountyny.com/event/cpw-launches-open-call-for-upcoming-upstate-photography-biennial/2026-09-10/
LOCATION:Center for Photography at Woodstock\, 25 Dederick St.\, Kingston\, 12401
ATTACH;FMTTYPE=image/png:https://visitulstercountyny.com/wp-content/uploads/2025/12/Screenshot-2025-12-29-at-10.39.31-AM.png
ORGANIZER;CN="The Center for Photography at Woodstock":MAILTO:info@cpw.org
END:VEVENT
BEGIN:VEVENT
DTSTART;TZID=America/New_York:20260911T110000
DTEND;TZID=America/New_York:20260911T170000
DTSTAMP:20260425T145532
CREATED:20251230T211120Z
LAST-MODIFIED:20260105T195150Z
UID:10009133-1789124400-1789146000@visitulstercountyny.com
SUMMARY:CPW Launches Open Call for Upcoming Upstate Photography Biennial
DESCRIPTION:Open call for submissions from artists!
URL:https://visitulstercountyny.com/event/cpw-launches-open-call-for-upcoming-upstate-photography-biennial/2026-09-11/
LOCATION:Center for Photography at Woodstock\, 25 Dederick St.\, Kingston\, 12401
ATTACH;FMTTYPE=image/png:https://visitulstercountyny.com/wp-content/uploads/2025/12/Screenshot-2025-12-29-at-10.39.31-AM.png
ORGANIZER;CN="The Center for Photography at Woodstock":MAILTO:info@cpw.org
END:VEVENT
BEGIN:VEVENT
DTSTART;TZID=America/New_York:20260912T110000
DTEND;TZID=America/New_York:20260912T170000
DTSTAMP:20260425T145532
CREATED:20251230T211120Z
LAST-MODIFIED:20260105T195150Z
UID:10009134-1789210800-1789232400@visitulstercountyny.com
SUMMARY:CPW Launches Open Call for Upcoming Upstate Photography Biennial
DESCRIPTION:Open call for submissions from artists!
URL:https://visitulstercountyny.com/event/cpw-launches-open-call-for-upcoming-upstate-photography-biennial/2026-09-12/
LOCATION:Center for Photography at Woodstock\, 25 Dederick St.\, Kingston\, 12401
ATTACH;FMTTYPE=image/png:https://visitulstercountyny.com/wp-content/uploads/2025/12/Screenshot-2025-12-29-at-10.39.31-AM.png
ORGANIZER;CN="The Center for Photography at Woodstock":MAILTO:info@cpw.org
END:VEVENT
BEGIN:VEVENT
DTSTART;TZID=America/New_York:20260917T110000
DTEND;TZID=America/New_York:20260917T170000
DTSTAMP:20260425T145532
CREATED:20251230T211120Z
LAST-MODIFIED:20260105T195150Z
UID:10009135-1789642800-1789664400@visitulstercountyny.com
SUMMARY:CPW Launches Open Call for Upcoming Upstate Photography Biennial
DESCRIPTION:Open call for submissions from artists!
URL:https://visitulstercountyny.com/event/cpw-launches-open-call-for-upcoming-upstate-photography-biennial/2026-09-17/
LOCATION:Center for Photography at Woodstock\, 25 Dederick St.\, Kingston\, 12401
ATTACH;FMTTYPE=image/png:https://visitulstercountyny.com/wp-content/uploads/2025/12/Screenshot-2025-12-29-at-10.39.31-AM.png
ORGANIZER;CN="The Center for Photography at Woodstock":MAILTO:info@cpw.org
END:VEVENT
BEGIN:VEVENT
DTSTART;TZID=America/New_York:20260918T110000
DTEND;TZID=America/New_York:20260918T170000
DTSTAMP:20260425T145532
CREATED:20251230T211120Z
LAST-MODIFIED:20260105T195150Z
UID:10009136-1789729200-1789750800@visitulstercountyny.com
SUMMARY:CPW Launches Open Call for Upcoming Upstate Photography Biennial
DESCRIPTION:Open call for submissions from artists!
URL:https://visitulstercountyny.com/event/cpw-launches-open-call-for-upcoming-upstate-photography-biennial/2026-09-18/
LOCATION:Center for Photography at Woodstock\, 25 Dederick St.\, Kingston\, 12401
ATTACH;FMTTYPE=image/png:https://visitulstercountyny.com/wp-content/uploads/2025/12/Screenshot-2025-12-29-at-10.39.31-AM.png
ORGANIZER;CN="The Center for Photography at Woodstock":MAILTO:info@cpw.org
END:VEVENT
BEGIN:VEVENT
DTSTART;TZID=America/New_York:20260919T110000
DTEND;TZID=America/New_York:20260919T170000
DTSTAMP:20260425T145532
CREATED:20251230T211120Z
LAST-MODIFIED:20260105T195150Z
UID:10009137-1789815600-1789837200@visitulstercountyny.com
SUMMARY:CPW Launches Open Call for Upcoming Upstate Photography Biennial
DESCRIPTION:Open call for submissions from artists!
URL:https://visitulstercountyny.com/event/cpw-launches-open-call-for-upcoming-upstate-photography-biennial/2026-09-19/
LOCATION:Center for Photography at Woodstock\, 25 Dederick St.\, Kingston\, 12401
ATTACH;FMTTYPE=image/png:https://visitulstercountyny.com/wp-content/uploads/2025/12/Screenshot-2025-12-29-at-10.39.31-AM.png
ORGANIZER;CN="The Center for Photography at Woodstock":MAILTO:info@cpw.org
END:VEVENT
BEGIN:VEVENT
DTSTART;TZID=America/New_York:20260924T110000
DTEND;TZID=America/New_York:20260924T170000
DTSTAMP:20260425T145532
CREATED:20251230T211120Z
LAST-MODIFIED:20260105T195150Z
UID:10009138-1790247600-1790269200@visitulstercountyny.com
SUMMARY:CPW Launches Open Call for Upcoming Upstate Photography Biennial
DESCRIPTION:Open call for submissions from artists!
URL:https://visitulstercountyny.com/event/cpw-launches-open-call-for-upcoming-upstate-photography-biennial/2026-09-24/
LOCATION:Center for Photography at Woodstock\, 25 Dederick St.\, Kingston\, 12401
ATTACH;FMTTYPE=image/png:https://visitulstercountyny.com/wp-content/uploads/2025/12/Screenshot-2025-12-29-at-10.39.31-AM.png
ORGANIZER;CN="The Center for Photography at Woodstock":MAILTO:info@cpw.org
END:VEVENT
BEGIN:VEVENT
DTSTART;TZID=America/New_York:20260925T110000
DTEND;TZID=America/New_York:20260925T170000
DTSTAMP:20260425T145532
CREATED:20251230T211120Z
LAST-MODIFIED:20260105T195150Z
UID:10009139-1790334000-1790355600@visitulstercountyny.com
SUMMARY:CPW Launches Open Call for Upcoming Upstate Photography Biennial
DESCRIPTION:Open call for submissions from artists!
URL:https://visitulstercountyny.com/event/cpw-launches-open-call-for-upcoming-upstate-photography-biennial/2026-09-25/
LOCATION:Center for Photography at Woodstock\, 25 Dederick St.\, Kingston\, 12401
ATTACH;FMTTYPE=image/png:https://visitulstercountyny.com/wp-content/uploads/2025/12/Screenshot-2025-12-29-at-10.39.31-AM.png
ORGANIZER;CN="The Center for Photography at Woodstock":MAILTO:info@cpw.org
END:VEVENT
BEGIN:VEVENT
DTSTART;TZID=America/New_York:20260926T110000
DTEND;TZID=America/New_York:20260926T170000
DTSTAMP:20260425T145532
CREATED:20251230T211120Z
LAST-MODIFIED:20260105T195150Z
UID:10009140-1790420400-1790442000@visitulstercountyny.com
SUMMARY:CPW Launches Open Call for Upcoming Upstate Photography Biennial
DESCRIPTION:Open call for submissions from artists!
URL:https://visitulstercountyny.com/event/cpw-launches-open-call-for-upcoming-upstate-photography-biennial/2026-09-26/
LOCATION:Center for Photography at Woodstock\, 25 Dederick St.\, Kingston\, 12401
ATTACH;FMTTYPE=image/png:https://visitulstercountyny.com/wp-content/uploads/2025/12/Screenshot-2025-12-29-at-10.39.31-AM.png
ORGANIZER;CN="The Center for Photography at Woodstock":MAILTO:info@cpw.org
END:VEVENT
END:VCALENDAR