BEGIN:VCALENDAR
VERSION:2.0
PRODID:-//UC Tourism Production - ECPv6.15.18//NONSGML v1.0//EN
CALSCALE:GREGORIAN
METHOD:PUBLISH
X-ORIGINAL-URL:https://visitulstercountyny.com
X-WR-CALDESC:Events for UC Tourism Production
REFRESH-INTERVAL;VALUE=DURATION:PT1H
X-Robots-Tag:noindex
X-PUBLISHED-TTL:PT1H
BEGIN:VTIMEZONE
TZID:America/New_York
BEGIN:DAYLIGHT
TZOFFSETFROM:-0500
TZOFFSETTO:-0400
TZNAME:EDT
DTSTART:20250309T070000
END:DAYLIGHT
BEGIN:STANDARD
TZOFFSETFROM:-0400
TZOFFSETTO:-0500
TZNAME:EST
DTSTART:20251102T060000
END:STANDARD
BEGIN:DAYLIGHT
TZOFFSETFROM:-0500
TZOFFSETTO:-0400
TZNAME:EDT
DTSTART:20260308T070000
END:DAYLIGHT
BEGIN:STANDARD
TZOFFSETFROM:-0400
TZOFFSETTO:-0500
TZNAME:EST
DTSTART:20261101T060000
END:STANDARD
BEGIN:DAYLIGHT
TZOFFSETFROM:-0500
TZOFFSETTO:-0400
TZNAME:EDT
DTSTART:20270314T070000
END:DAYLIGHT
BEGIN:STANDARD
TZOFFSETFROM:-0400
TZOFFSETTO:-0500
TZNAME:EST
DTSTART:20271107T060000
END:STANDARD
END:VTIMEZONE
BEGIN:VEVENT
DTSTART;TZID=America/New_York:20260627T110000
DTEND;TZID=America/New_York:20260627T170000
DTSTAMP:20260425T115753
CREATED:20251230T211120Z
LAST-MODIFIED:20260105T195150Z
UID:10009101-1782558000-1782579600@visitulstercountyny.com
SUMMARY:CPW Launches Open Call for Upcoming Upstate Photography Biennial
DESCRIPTION:Open call for submissions from artists!
URL:https://visitulstercountyny.com/event/cpw-launches-open-call-for-upcoming-upstate-photography-biennial/2026-06-27/
LOCATION:Center for Photography at Woodstock\, 25 Dederick St.\, Kingston\, 12401
ATTACH;FMTTYPE=image/png:https://visitulstercountyny.com/wp-content/uploads/2025/12/Screenshot-2025-12-29-at-10.39.31-AM.png
ORGANIZER;CN="The Center for Photography at Woodstock":MAILTO:info@cpw.org
END:VEVENT
BEGIN:VEVENT
DTSTART;TZID=America/New_York:20260702T110000
DTEND;TZID=America/New_York:20260702T170000
DTSTAMP:20260425T115753
CREATED:20251230T211120Z
LAST-MODIFIED:20260105T195150Z
UID:10009102-1782990000-1783011600@visitulstercountyny.com
SUMMARY:CPW Launches Open Call for Upcoming Upstate Photography Biennial
DESCRIPTION:Open call for submissions from artists!
URL:https://visitulstercountyny.com/event/cpw-launches-open-call-for-upcoming-upstate-photography-biennial/2026-07-02/
LOCATION:Center for Photography at Woodstock\, 25 Dederick St.\, Kingston\, 12401
ATTACH;FMTTYPE=image/png:https://visitulstercountyny.com/wp-content/uploads/2025/12/Screenshot-2025-12-29-at-10.39.31-AM.png
ORGANIZER;CN="The Center for Photography at Woodstock":MAILTO:info@cpw.org
END:VEVENT
BEGIN:VEVENT
DTSTART;TZID=America/New_York:20260703T110000
DTEND;TZID=America/New_York:20260703T170000
DTSTAMP:20260425T115753
CREATED:20251230T211120Z
LAST-MODIFIED:20260105T195150Z
UID:10009103-1783076400-1783098000@visitulstercountyny.com
SUMMARY:CPW Launches Open Call for Upcoming Upstate Photography Biennial
DESCRIPTION:Open call for submissions from artists!
URL:https://visitulstercountyny.com/event/cpw-launches-open-call-for-upcoming-upstate-photography-biennial/2026-07-03/
LOCATION:Center for Photography at Woodstock\, 25 Dederick St.\, Kingston\, 12401
ATTACH;FMTTYPE=image/png:https://visitulstercountyny.com/wp-content/uploads/2025/12/Screenshot-2025-12-29-at-10.39.31-AM.png
ORGANIZER;CN="The Center for Photography at Woodstock":MAILTO:info@cpw.org
END:VEVENT
BEGIN:VEVENT
DTSTART;TZID=America/New_York:20260704T110000
DTEND;TZID=America/New_York:20260704T170000
DTSTAMP:20260425T115753
CREATED:20251230T211120Z
LAST-MODIFIED:20260105T195150Z
UID:10009104-1783162800-1783184400@visitulstercountyny.com
SUMMARY:CPW Launches Open Call for Upcoming Upstate Photography Biennial
DESCRIPTION:Open call for submissions from artists!
URL:https://visitulstercountyny.com/event/cpw-launches-open-call-for-upcoming-upstate-photography-biennial/2026-07-04/
LOCATION:Center for Photography at Woodstock\, 25 Dederick St.\, Kingston\, 12401
ATTACH;FMTTYPE=image/png:https://visitulstercountyny.com/wp-content/uploads/2025/12/Screenshot-2025-12-29-at-10.39.31-AM.png
ORGANIZER;CN="The Center for Photography at Woodstock":MAILTO:info@cpw.org
END:VEVENT
BEGIN:VEVENT
DTSTART;TZID=America/New_York:20260709T110000
DTEND;TZID=America/New_York:20260709T170000
DTSTAMP:20260425T115753
CREATED:20251230T211120Z
LAST-MODIFIED:20260105T195150Z
UID:10009105-1783594800-1783616400@visitulstercountyny.com
SUMMARY:CPW Launches Open Call for Upcoming Upstate Photography Biennial
DESCRIPTION:Open call for submissions from artists!
URL:https://visitulstercountyny.com/event/cpw-launches-open-call-for-upcoming-upstate-photography-biennial/2026-07-09/
LOCATION:Center for Photography at Woodstock\, 25 Dederick St.\, Kingston\, 12401
ATTACH;FMTTYPE=image/png:https://visitulstercountyny.com/wp-content/uploads/2025/12/Screenshot-2025-12-29-at-10.39.31-AM.png
ORGANIZER;CN="The Center for Photography at Woodstock":MAILTO:info@cpw.org
END:VEVENT
BEGIN:VEVENT
DTSTART;TZID=America/New_York:20260710T110000
DTEND;TZID=America/New_York:20260710T170000
DTSTAMP:20260425T115753
CREATED:20251230T211120Z
LAST-MODIFIED:20260105T195150Z
UID:10009106-1783681200-1783702800@visitulstercountyny.com
SUMMARY:CPW Launches Open Call for Upcoming Upstate Photography Biennial
DESCRIPTION:Open call for submissions from artists!
URL:https://visitulstercountyny.com/event/cpw-launches-open-call-for-upcoming-upstate-photography-biennial/2026-07-10/
LOCATION:Center for Photography at Woodstock\, 25 Dederick St.\, Kingston\, 12401
ATTACH;FMTTYPE=image/png:https://visitulstercountyny.com/wp-content/uploads/2025/12/Screenshot-2025-12-29-at-10.39.31-AM.png
ORGANIZER;CN="The Center for Photography at Woodstock":MAILTO:info@cpw.org
END:VEVENT
BEGIN:VEVENT
DTSTART;TZID=America/New_York:20260711T110000
DTEND;TZID=America/New_York:20260711T170000
DTSTAMP:20260425T115753
CREATED:20251230T211120Z
LAST-MODIFIED:20260105T195150Z
UID:10009107-1783767600-1783789200@visitulstercountyny.com
SUMMARY:CPW Launches Open Call for Upcoming Upstate Photography Biennial
DESCRIPTION:Open call for submissions from artists!
URL:https://visitulstercountyny.com/event/cpw-launches-open-call-for-upcoming-upstate-photography-biennial/2026-07-11/
LOCATION:Center for Photography at Woodstock\, 25 Dederick St.\, Kingston\, 12401
ATTACH;FMTTYPE=image/png:https://visitulstercountyny.com/wp-content/uploads/2025/12/Screenshot-2025-12-29-at-10.39.31-AM.png
ORGANIZER;CN="The Center for Photography at Woodstock":MAILTO:info@cpw.org
END:VEVENT
BEGIN:VEVENT
DTSTART;TZID=America/New_York:20260716T110000
DTEND;TZID=America/New_York:20260716T170000
DTSTAMP:20260425T115753
CREATED:20251230T211120Z
LAST-MODIFIED:20260105T195150Z
UID:10009108-1784199600-1784221200@visitulstercountyny.com
SUMMARY:CPW Launches Open Call for Upcoming Upstate Photography Biennial
DESCRIPTION:Open call for submissions from artists!
URL:https://visitulstercountyny.com/event/cpw-launches-open-call-for-upcoming-upstate-photography-biennial/2026-07-16/
LOCATION:Center for Photography at Woodstock\, 25 Dederick St.\, Kingston\, 12401
ATTACH;FMTTYPE=image/png:https://visitulstercountyny.com/wp-content/uploads/2025/12/Screenshot-2025-12-29-at-10.39.31-AM.png
ORGANIZER;CN="The Center for Photography at Woodstock":MAILTO:info@cpw.org
END:VEVENT
BEGIN:VEVENT
DTSTART;TZID=America/New_York:20260717T110000
DTEND;TZID=America/New_York:20260717T170000
DTSTAMP:20260425T115753
CREATED:20251230T211120Z
LAST-MODIFIED:20260105T195150Z
UID:10009109-1784286000-1784307600@visitulstercountyny.com
SUMMARY:CPW Launches Open Call for Upcoming Upstate Photography Biennial
DESCRIPTION:Open call for submissions from artists!
URL:https://visitulstercountyny.com/event/cpw-launches-open-call-for-upcoming-upstate-photography-biennial/2026-07-17/
LOCATION:Center for Photography at Woodstock\, 25 Dederick St.\, Kingston\, 12401
ATTACH;FMTTYPE=image/png:https://visitulstercountyny.com/wp-content/uploads/2025/12/Screenshot-2025-12-29-at-10.39.31-AM.png
ORGANIZER;CN="The Center for Photography at Woodstock":MAILTO:info@cpw.org
END:VEVENT
BEGIN:VEVENT
DTSTART;TZID=America/New_York:20260718T110000
DTEND;TZID=America/New_York:20260718T170000
DTSTAMP:20260425T115753
CREATED:20251230T211120Z
LAST-MODIFIED:20260105T195150Z
UID:10009110-1784372400-1784394000@visitulstercountyny.com
SUMMARY:CPW Launches Open Call for Upcoming Upstate Photography Biennial
DESCRIPTION:Open call for submissions from artists!
URL:https://visitulstercountyny.com/event/cpw-launches-open-call-for-upcoming-upstate-photography-biennial/2026-07-18/
LOCATION:Center for Photography at Woodstock\, 25 Dederick St.\, Kingston\, 12401
ATTACH;FMTTYPE=image/png:https://visitulstercountyny.com/wp-content/uploads/2025/12/Screenshot-2025-12-29-at-10.39.31-AM.png
ORGANIZER;CN="The Center for Photography at Woodstock":MAILTO:info@cpw.org
END:VEVENT
BEGIN:VEVENT
DTSTART;TZID=America/New_York:20260723T110000
DTEND;TZID=America/New_York:20260723T170000
DTSTAMP:20260425T115753
CREATED:20251230T211120Z
LAST-MODIFIED:20260105T195150Z
UID:10009111-1784804400-1784826000@visitulstercountyny.com
SUMMARY:CPW Launches Open Call for Upcoming Upstate Photography Biennial
DESCRIPTION:Open call for submissions from artists!
URL:https://visitulstercountyny.com/event/cpw-launches-open-call-for-upcoming-upstate-photography-biennial/2026-07-23/
LOCATION:Center for Photography at Woodstock\, 25 Dederick St.\, Kingston\, 12401
ATTACH;FMTTYPE=image/png:https://visitulstercountyny.com/wp-content/uploads/2025/12/Screenshot-2025-12-29-at-10.39.31-AM.png
ORGANIZER;CN="The Center for Photography at Woodstock":MAILTO:info@cpw.org
END:VEVENT
BEGIN:VEVENT
DTSTART;TZID=America/New_York:20260724T110000
DTEND;TZID=America/New_York:20260724T170000
DTSTAMP:20260425T115753
CREATED:20251230T211120Z
LAST-MODIFIED:20260105T195150Z
UID:10009112-1784890800-1784912400@visitulstercountyny.com
SUMMARY:CPW Launches Open Call for Upcoming Upstate Photography Biennial
DESCRIPTION:Open call for submissions from artists!
URL:https://visitulstercountyny.com/event/cpw-launches-open-call-for-upcoming-upstate-photography-biennial/2026-07-24/
LOCATION:Center for Photography at Woodstock\, 25 Dederick St.\, Kingston\, 12401
ATTACH;FMTTYPE=image/png:https://visitulstercountyny.com/wp-content/uploads/2025/12/Screenshot-2025-12-29-at-10.39.31-AM.png
ORGANIZER;CN="The Center for Photography at Woodstock":MAILTO:info@cpw.org
END:VEVENT
BEGIN:VEVENT
DTSTART;TZID=America/New_York:20260725T110000
DTEND;TZID=America/New_York:20260725T170000
DTSTAMP:20260425T115753
CREATED:20251230T211120Z
LAST-MODIFIED:20260105T195150Z
UID:10009113-1784977200-1784998800@visitulstercountyny.com
SUMMARY:CPW Launches Open Call for Upcoming Upstate Photography Biennial
DESCRIPTION:Open call for submissions from artists!
URL:https://visitulstercountyny.com/event/cpw-launches-open-call-for-upcoming-upstate-photography-biennial/2026-07-25/
LOCATION:Center for Photography at Woodstock\, 25 Dederick St.\, Kingston\, 12401
ATTACH;FMTTYPE=image/png:https://visitulstercountyny.com/wp-content/uploads/2025/12/Screenshot-2025-12-29-at-10.39.31-AM.png
ORGANIZER;CN="The Center for Photography at Woodstock":MAILTO:info@cpw.org
END:VEVENT
BEGIN:VEVENT
DTSTART;TZID=America/New_York:20260730T110000
DTEND;TZID=America/New_York:20260730T170000
DTSTAMP:20260425T115753
CREATED:20251230T211120Z
LAST-MODIFIED:20260105T195150Z
UID:10009114-1785409200-1785430800@visitulstercountyny.com
SUMMARY:CPW Launches Open Call for Upcoming Upstate Photography Biennial
DESCRIPTION:Open call for submissions from artists!
URL:https://visitulstercountyny.com/event/cpw-launches-open-call-for-upcoming-upstate-photography-biennial/2026-07-30/
LOCATION:Center for Photography at Woodstock\, 25 Dederick St.\, Kingston\, 12401
ATTACH;FMTTYPE=image/png:https://visitulstercountyny.com/wp-content/uploads/2025/12/Screenshot-2025-12-29-at-10.39.31-AM.png
ORGANIZER;CN="The Center for Photography at Woodstock":MAILTO:info@cpw.org
END:VEVENT
BEGIN:VEVENT
DTSTART;TZID=America/New_York:20260731T110000
DTEND;TZID=America/New_York:20260731T170000
DTSTAMP:20260425T115753
CREATED:20251230T211120Z
LAST-MODIFIED:20260105T195150Z
UID:10009115-1785495600-1785517200@visitulstercountyny.com
SUMMARY:CPW Launches Open Call for Upcoming Upstate Photography Biennial
DESCRIPTION:Open call for submissions from artists!
URL:https://visitulstercountyny.com/event/cpw-launches-open-call-for-upcoming-upstate-photography-biennial/2026-07-31/
LOCATION:Center for Photography at Woodstock\, 25 Dederick St.\, Kingston\, 12401
ATTACH;FMTTYPE=image/png:https://visitulstercountyny.com/wp-content/uploads/2025/12/Screenshot-2025-12-29-at-10.39.31-AM.png
ORGANIZER;CN="The Center for Photography at Woodstock":MAILTO:info@cpw.org
END:VEVENT
BEGIN:VEVENT
DTSTART;TZID=America/New_York:20260801T110000
DTEND;TZID=America/New_York:20260801T170000
DTSTAMP:20260425T115753
CREATED:20251230T211120Z
LAST-MODIFIED:20260105T195150Z
UID:10009116-1785582000-1785603600@visitulstercountyny.com
SUMMARY:CPW Launches Open Call for Upcoming Upstate Photography Biennial
DESCRIPTION:Open call for submissions from artists!
URL:https://visitulstercountyny.com/event/cpw-launches-open-call-for-upcoming-upstate-photography-biennial/2026-08-01/
LOCATION:Center for Photography at Woodstock\, 25 Dederick St.\, Kingston\, 12401
ATTACH;FMTTYPE=image/png:https://visitulstercountyny.com/wp-content/uploads/2025/12/Screenshot-2025-12-29-at-10.39.31-AM.png
ORGANIZER;CN="The Center for Photography at Woodstock":MAILTO:info@cpw.org
END:VEVENT
BEGIN:VEVENT
DTSTART;TZID=America/New_York:20260806T110000
DTEND;TZID=America/New_York:20260806T170000
DTSTAMP:20260425T115753
CREATED:20251230T211120Z
LAST-MODIFIED:20260105T195150Z
UID:10009117-1786014000-1786035600@visitulstercountyny.com
SUMMARY:CPW Launches Open Call for Upcoming Upstate Photography Biennial
DESCRIPTION:Open call for submissions from artists!
URL:https://visitulstercountyny.com/event/cpw-launches-open-call-for-upcoming-upstate-photography-biennial/2026-08-06/
LOCATION:Center for Photography at Woodstock\, 25 Dederick St.\, Kingston\, 12401
ATTACH;FMTTYPE=image/png:https://visitulstercountyny.com/wp-content/uploads/2025/12/Screenshot-2025-12-29-at-10.39.31-AM.png
ORGANIZER;CN="The Center for Photography at Woodstock":MAILTO:info@cpw.org
END:VEVENT
BEGIN:VEVENT
DTSTART;TZID=America/New_York:20260807T110000
DTEND;TZID=America/New_York:20260807T170000
DTSTAMP:20260425T115753
CREATED:20251230T211120Z
LAST-MODIFIED:20260105T195150Z
UID:10009118-1786100400-1786122000@visitulstercountyny.com
SUMMARY:CPW Launches Open Call for Upcoming Upstate Photography Biennial
DESCRIPTION:Open call for submissions from artists!
URL:https://visitulstercountyny.com/event/cpw-launches-open-call-for-upcoming-upstate-photography-biennial/2026-08-07/
LOCATION:Center for Photography at Woodstock\, 25 Dederick St.\, Kingston\, 12401
ATTACH;FMTTYPE=image/png:https://visitulstercountyny.com/wp-content/uploads/2025/12/Screenshot-2025-12-29-at-10.39.31-AM.png
ORGANIZER;CN="The Center for Photography at Woodstock":MAILTO:info@cpw.org
END:VEVENT
BEGIN:VEVENT
DTSTART;TZID=America/New_York:20260808T110000
DTEND;TZID=America/New_York:20260808T170000
DTSTAMP:20260425T115753
CREATED:20251230T211120Z
LAST-MODIFIED:20260105T195150Z
UID:10009119-1786186800-1786208400@visitulstercountyny.com
SUMMARY:CPW Launches Open Call for Upcoming Upstate Photography Biennial
DESCRIPTION:Open call for submissions from artists!
URL:https://visitulstercountyny.com/event/cpw-launches-open-call-for-upcoming-upstate-photography-biennial/2026-08-08/
LOCATION:Center for Photography at Woodstock\, 25 Dederick St.\, Kingston\, 12401
ATTACH;FMTTYPE=image/png:https://visitulstercountyny.com/wp-content/uploads/2025/12/Screenshot-2025-12-29-at-10.39.31-AM.png
ORGANIZER;CN="The Center for Photography at Woodstock":MAILTO:info@cpw.org
END:VEVENT
BEGIN:VEVENT
DTSTART;TZID=America/New_York:20260813T110000
DTEND;TZID=America/New_York:20260813T170000
DTSTAMP:20260425T115753
CREATED:20251230T211120Z
LAST-MODIFIED:20260105T195150Z
UID:10009120-1786618800-1786640400@visitulstercountyny.com
SUMMARY:CPW Launches Open Call for Upcoming Upstate Photography Biennial
DESCRIPTION:Open call for submissions from artists!
URL:https://visitulstercountyny.com/event/cpw-launches-open-call-for-upcoming-upstate-photography-biennial/2026-08-13/
LOCATION:Center for Photography at Woodstock\, 25 Dederick St.\, Kingston\, 12401
ATTACH;FMTTYPE=image/png:https://visitulstercountyny.com/wp-content/uploads/2025/12/Screenshot-2025-12-29-at-10.39.31-AM.png
ORGANIZER;CN="The Center for Photography at Woodstock":MAILTO:info@cpw.org
END:VEVENT
BEGIN:VEVENT
DTSTART;TZID=America/New_York:20260814T110000
DTEND;TZID=America/New_York:20260814T170000
DTSTAMP:20260425T115753
CREATED:20251230T211120Z
LAST-MODIFIED:20260105T195150Z
UID:10009121-1786705200-1786726800@visitulstercountyny.com
SUMMARY:CPW Launches Open Call for Upcoming Upstate Photography Biennial
DESCRIPTION:Open call for submissions from artists!
URL:https://visitulstercountyny.com/event/cpw-launches-open-call-for-upcoming-upstate-photography-biennial/2026-08-14/
LOCATION:Center for Photography at Woodstock\, 25 Dederick St.\, Kingston\, 12401
ATTACH;FMTTYPE=image/png:https://visitulstercountyny.com/wp-content/uploads/2025/12/Screenshot-2025-12-29-at-10.39.31-AM.png
ORGANIZER;CN="The Center for Photography at Woodstock":MAILTO:info@cpw.org
END:VEVENT
BEGIN:VEVENT
DTSTART;TZID=America/New_York:20260815T110000
DTEND;TZID=America/New_York:20260815T170000
DTSTAMP:20260425T115753
CREATED:20251230T211120Z
LAST-MODIFIED:20260105T195150Z
UID:10009122-1786791600-1786813200@visitulstercountyny.com
SUMMARY:CPW Launches Open Call for Upcoming Upstate Photography Biennial
DESCRIPTION:Open call for submissions from artists!
URL:https://visitulstercountyny.com/event/cpw-launches-open-call-for-upcoming-upstate-photography-biennial/2026-08-15/
LOCATION:Center for Photography at Woodstock\, 25 Dederick St.\, Kingston\, 12401
ATTACH;FMTTYPE=image/png:https://visitulstercountyny.com/wp-content/uploads/2025/12/Screenshot-2025-12-29-at-10.39.31-AM.png
ORGANIZER;CN="The Center for Photography at Woodstock":MAILTO:info@cpw.org
END:VEVENT
BEGIN:VEVENT
DTSTART;TZID=America/New_York:20260820T110000
DTEND;TZID=America/New_York:20260820T170000
DTSTAMP:20260425T115753
CREATED:20251230T211120Z
LAST-MODIFIED:20260105T195150Z
UID:10009123-1787223600-1787245200@visitulstercountyny.com
SUMMARY:CPW Launches Open Call for Upcoming Upstate Photography Biennial
DESCRIPTION:Open call for submissions from artists!
URL:https://visitulstercountyny.com/event/cpw-launches-open-call-for-upcoming-upstate-photography-biennial/2026-08-20/
LOCATION:Center for Photography at Woodstock\, 25 Dederick St.\, Kingston\, 12401
ATTACH;FMTTYPE=image/png:https://visitulstercountyny.com/wp-content/uploads/2025/12/Screenshot-2025-12-29-at-10.39.31-AM.png
ORGANIZER;CN="The Center for Photography at Woodstock":MAILTO:info@cpw.org
END:VEVENT
BEGIN:VEVENT
DTSTART;TZID=America/New_York:20260821T110000
DTEND;TZID=America/New_York:20260821T170000
DTSTAMP:20260425T115753
CREATED:20251230T211120Z
LAST-MODIFIED:20260105T195150Z
UID:10009124-1787310000-1787331600@visitulstercountyny.com
SUMMARY:CPW Launches Open Call for Upcoming Upstate Photography Biennial
DESCRIPTION:Open call for submissions from artists!
URL:https://visitulstercountyny.com/event/cpw-launches-open-call-for-upcoming-upstate-photography-biennial/2026-08-21/
LOCATION:Center for Photography at Woodstock\, 25 Dederick St.\, Kingston\, 12401
ATTACH;FMTTYPE=image/png:https://visitulstercountyny.com/wp-content/uploads/2025/12/Screenshot-2025-12-29-at-10.39.31-AM.png
ORGANIZER;CN="The Center for Photography at Woodstock":MAILTO:info@cpw.org
END:VEVENT
BEGIN:VEVENT
DTSTART;TZID=America/New_York:20260822T110000
DTEND;TZID=America/New_York:20260822T170000
DTSTAMP:20260425T115753
CREATED:20251230T211120Z
LAST-MODIFIED:20260105T195150Z
UID:10009125-1787396400-1787418000@visitulstercountyny.com
SUMMARY:CPW Launches Open Call for Upcoming Upstate Photography Biennial
DESCRIPTION:Open call for submissions from artists!
URL:https://visitulstercountyny.com/event/cpw-launches-open-call-for-upcoming-upstate-photography-biennial/2026-08-22/
LOCATION:Center for Photography at Woodstock\, 25 Dederick St.\, Kingston\, 12401
ATTACH;FMTTYPE=image/png:https://visitulstercountyny.com/wp-content/uploads/2025/12/Screenshot-2025-12-29-at-10.39.31-AM.png
ORGANIZER;CN="The Center for Photography at Woodstock":MAILTO:info@cpw.org
END:VEVENT
BEGIN:VEVENT
DTSTART;TZID=America/New_York:20260827T110000
DTEND;TZID=America/New_York:20260827T170000
DTSTAMP:20260425T115753
CREATED:20251230T211120Z
LAST-MODIFIED:20260105T195150Z
UID:10009126-1787828400-1787850000@visitulstercountyny.com
SUMMARY:CPW Launches Open Call for Upcoming Upstate Photography Biennial
DESCRIPTION:Open call for submissions from artists!
URL:https://visitulstercountyny.com/event/cpw-launches-open-call-for-upcoming-upstate-photography-biennial/2026-08-27/
LOCATION:Center for Photography at Woodstock\, 25 Dederick St.\, Kingston\, 12401
ATTACH;FMTTYPE=image/png:https://visitulstercountyny.com/wp-content/uploads/2025/12/Screenshot-2025-12-29-at-10.39.31-AM.png
ORGANIZER;CN="The Center for Photography at Woodstock":MAILTO:info@cpw.org
END:VEVENT
BEGIN:VEVENT
DTSTART;TZID=America/New_York:20260828T110000
DTEND;TZID=America/New_York:20260828T170000
DTSTAMP:20260425T115753
CREATED:20251230T211120Z
LAST-MODIFIED:20260105T195150Z
UID:10009127-1787914800-1787936400@visitulstercountyny.com
SUMMARY:CPW Launches Open Call for Upcoming Upstate Photography Biennial
DESCRIPTION:Open call for submissions from artists!
URL:https://visitulstercountyny.com/event/cpw-launches-open-call-for-upcoming-upstate-photography-biennial/2026-08-28/
LOCATION:Center for Photography at Woodstock\, 25 Dederick St.\, Kingston\, 12401
ATTACH;FMTTYPE=image/png:https://visitulstercountyny.com/wp-content/uploads/2025/12/Screenshot-2025-12-29-at-10.39.31-AM.png
ORGANIZER;CN="The Center for Photography at Woodstock":MAILTO:info@cpw.org
END:VEVENT
BEGIN:VEVENT
DTSTART;TZID=America/New_York:20260829T110000
DTEND;TZID=America/New_York:20260829T170000
DTSTAMP:20260425T115753
CREATED:20251230T211120Z
LAST-MODIFIED:20260105T195150Z
UID:10009128-1788001200-1788022800@visitulstercountyny.com
SUMMARY:CPW Launches Open Call for Upcoming Upstate Photography Biennial
DESCRIPTION:Open call for submissions from artists!
URL:https://visitulstercountyny.com/event/cpw-launches-open-call-for-upcoming-upstate-photography-biennial/2026-08-29/
LOCATION:Center for Photography at Woodstock\, 25 Dederick St.\, Kingston\, 12401
ATTACH;FMTTYPE=image/png:https://visitulstercountyny.com/wp-content/uploads/2025/12/Screenshot-2025-12-29-at-10.39.31-AM.png
ORGANIZER;CN="The Center for Photography at Woodstock":MAILTO:info@cpw.org
END:VEVENT
BEGIN:VEVENT
DTSTART;TZID=America/New_York:20260903T110000
DTEND;TZID=America/New_York:20260903T170000
DTSTAMP:20260425T115753
CREATED:20251230T211120Z
LAST-MODIFIED:20260105T195150Z
UID:10009129-1788433200-1788454800@visitulstercountyny.com
SUMMARY:CPW Launches Open Call for Upcoming Upstate Photography Biennial
DESCRIPTION:Open call for submissions from artists!
URL:https://visitulstercountyny.com/event/cpw-launches-open-call-for-upcoming-upstate-photography-biennial/2026-09-03/
LOCATION:Center for Photography at Woodstock\, 25 Dederick St.\, Kingston\, 12401
ATTACH;FMTTYPE=image/png:https://visitulstercountyny.com/wp-content/uploads/2025/12/Screenshot-2025-12-29-at-10.39.31-AM.png
ORGANIZER;CN="The Center for Photography at Woodstock":MAILTO:info@cpw.org
END:VEVENT
BEGIN:VEVENT
DTSTART;TZID=America/New_York:20260904T110000
DTEND;TZID=America/New_York:20260904T170000
DTSTAMP:20260425T115753
CREATED:20251230T211120Z
LAST-MODIFIED:20260105T195150Z
UID:10009130-1788519600-1788541200@visitulstercountyny.com
SUMMARY:CPW Launches Open Call for Upcoming Upstate Photography Biennial
DESCRIPTION:Open call for submissions from artists!
URL:https://visitulstercountyny.com/event/cpw-launches-open-call-for-upcoming-upstate-photography-biennial/2026-09-04/
LOCATION:Center for Photography at Woodstock\, 25 Dederick St.\, Kingston\, 12401
ATTACH;FMTTYPE=image/png:https://visitulstercountyny.com/wp-content/uploads/2025/12/Screenshot-2025-12-29-at-10.39.31-AM.png
ORGANIZER;CN="The Center for Photography at Woodstock":MAILTO:info@cpw.org
END:VEVENT
END:VCALENDAR