BEGIN:VCALENDAR
VERSION:2.0
PRODID:-//UC Tourism Production - ECPv6.15.18//NONSGML v1.0//EN
CALSCALE:GREGORIAN
METHOD:PUBLISH
X-WR-CALNAME:UC Tourism Production
X-ORIGINAL-URL:https://visitulstercountyny.com
X-WR-CALDESC:Events for UC Tourism Production
REFRESH-INTERVAL;VALUE=DURATION:PT1H
X-Robots-Tag:noindex
X-PUBLISHED-TTL:PT1H
BEGIN:VTIMEZONE
TZID:America/New_York
BEGIN:DAYLIGHT
TZOFFSETFROM:-0500
TZOFFSETTO:-0400
TZNAME:EDT
DTSTART:20250309T070000
END:DAYLIGHT
BEGIN:STANDARD
TZOFFSETFROM:-0400
TZOFFSETTO:-0500
TZNAME:EST
DTSTART:20251102T060000
END:STANDARD
BEGIN:DAYLIGHT
TZOFFSETFROM:-0500
TZOFFSETTO:-0400
TZNAME:EDT
DTSTART:20260308T070000
END:DAYLIGHT
BEGIN:STANDARD
TZOFFSETFROM:-0400
TZOFFSETTO:-0500
TZNAME:EST
DTSTART:20261101T060000
END:STANDARD
BEGIN:DAYLIGHT
TZOFFSETFROM:-0500
TZOFFSETTO:-0400
TZNAME:EDT
DTSTART:20270314T070000
END:DAYLIGHT
BEGIN:STANDARD
TZOFFSETFROM:-0400
TZOFFSETTO:-0500
TZNAME:EST
DTSTART:20271107T060000
END:STANDARD
END:VTIMEZONE
BEGIN:VEVENT
DTSTART;TZID=America/New_York:20260404T100000
DTEND;TZID=America/New_York:20260404T160000
DTSTAMP:20260422T104517
CREATED:20260312T133746Z
LAST-MODIFIED:20260312T133746Z
UID:10010214-1775296800-1775318400@visitulstercountyny.com
SUMMARY:The Bunny Express
DESCRIPTION:Passengers will visit with the friendly Easter Bunny before returning to Kingston.\nOur train ride includes an Easter Egg Hunt for a perfect activity that’s fun for younger children and adults.\nPlease allow 90 minutes for the complete train ride experience. Departure Times: 10 am • 12 pm • 2 pm • 4 pm
URL:https://visitulstercountyny.com/event/the-bunny-express/2026-04-04/
LOCATION:Catskill Mountain Railroad Co.\, 55 Plaza Rd.\, Kingston\, NY\, 12401
CATEGORIES:Tours & Train Rides
ATTACH;FMTTYPE=image/jpeg:https://visitulstercountyny.com/wp-content/uploads/2026/03/LJIvMdZX3Ue4zp0_ssomDA.jpg
END:VEVENT
BEGIN:VEVENT
DTSTART;TZID=America/New_York:20260329T100000
DTEND;TZID=America/New_York:20260329T160000
DTSTAMP:20260422T104517
CREATED:20260312T133746Z
LAST-MODIFIED:20260312T133746Z
UID:10010213-1774778400-1774800000@visitulstercountyny.com
SUMMARY:The Bunny Express
DESCRIPTION:Passengers will visit with the friendly Easter Bunny before returning to Kingston.\nOur train ride includes an Easter Egg Hunt for a perfect activity that’s fun for younger children and adults.\nPlease allow 90 minutes for the complete train ride experience. Departure Times: 10 am • 12 pm • 2 pm • 4 pm
URL:https://visitulstercountyny.com/event/the-bunny-express/2026-03-29/
LOCATION:Catskill Mountain Railroad Co.\, 55 Plaza Rd.\, Kingston\, NY\, 12401
CATEGORIES:Tours & Train Rides
ATTACH;FMTTYPE=image/jpeg:https://visitulstercountyny.com/wp-content/uploads/2026/03/LJIvMdZX3Ue4zp0_ssomDA.jpg
END:VEVENT
BEGIN:VEVENT
DTSTART;TZID=America/New_York:20260328T100000
DTEND;TZID=America/New_York:20260328T160000
DTSTAMP:20260422T104517
CREATED:20260312T133746Z
LAST-MODIFIED:20260312T133746Z
UID:10010212-1774692000-1774713600@visitulstercountyny.com
SUMMARY:The Bunny Express
DESCRIPTION:Passengers will visit with the friendly Easter Bunny before returning to Kingston.\nOur train ride includes an Easter Egg Hunt for a perfect activity that’s fun for younger children and adults.\nPlease allow 90 minutes for the complete train ride experience. Departure Times: 10 am • 12 pm • 2 pm • 4 pm
URL:https://visitulstercountyny.com/event/the-bunny-express/2026-03-28/
LOCATION:Catskill Mountain Railroad Co.\, 55 Plaza Rd.\, Kingston\, NY\, 12401
CATEGORIES:Tours & Train Rides
ATTACH;FMTTYPE=image/jpeg:https://visitulstercountyny.com/wp-content/uploads/2026/03/LJIvMdZX3Ue4zp0_ssomDA.jpg
END:VEVENT
END:VCALENDAR