BEGIN:VCALENDAR
VERSION:2.0
PRODID:-//UC Tourism Production - ECPv6.15.18//NONSGML v1.0//EN
CALSCALE:GREGORIAN
METHOD:PUBLISH
X-ORIGINAL-URL:https://visitulstercountyny.com
X-WR-CALDESC:Events for UC Tourism Production
REFRESH-INTERVAL;VALUE=DURATION:PT1H
X-Robots-Tag:noindex
X-PUBLISHED-TTL:PT1H
BEGIN:VTIMEZONE
TZID:America/New_York
BEGIN:DAYLIGHT
TZOFFSETFROM:-0500
TZOFFSETTO:-0400
TZNAME:EDT
DTSTART:20250309T070000
END:DAYLIGHT
BEGIN:STANDARD
TZOFFSETFROM:-0400
TZOFFSETTO:-0500
TZNAME:EST
DTSTART:20251102T060000
END:STANDARD
BEGIN:DAYLIGHT
TZOFFSETFROM:-0500
TZOFFSETTO:-0400
TZNAME:EDT
DTSTART:20260308T070000
END:DAYLIGHT
BEGIN:STANDARD
TZOFFSETFROM:-0400
TZOFFSETTO:-0500
TZNAME:EST
DTSTART:20261101T060000
END:STANDARD
BEGIN:DAYLIGHT
TZOFFSETFROM:-0500
TZOFFSETTO:-0400
TZNAME:EDT
DTSTART:20270314T070000
END:DAYLIGHT
BEGIN:STANDARD
TZOFFSETFROM:-0400
TZOFFSETTO:-0500
TZNAME:EST
DTSTART:20271107T060000
END:STANDARD
END:VTIMEZONE
BEGIN:VEVENT
DTSTART;TZID=America/New_York:20260410T173000
DTEND;TZID=America/New_York:20260410T203000
DTSTAMP:20260421T170622
CREATED:20260311T152309Z
LAST-MODIFIED:20260311T152309Z
UID:10010209-1775842200-1775853000@visitulstercountyny.com
SUMMARY:Hoops 4 Inclusion
DESCRIPTION:Get ready\, Saugerties! Join us for Hoops 4 Inclusion\, presented by MoveIN Design\, is a high-energy\, family-friendly basketball showdown! \nIt’s Community vs. In Flight\, featuring members of our Special Olympics basketball team\, the Ulster Tigers. Local residents will go head-to-head with the people we support and our staff for an evening filled with fast breaks\, teamwork\, and community spirit. \nAs a proud part of the Ulster County and Saugerties community\, In Flight creates programs that help people with intellectual and developmental disabilities fully participate in community life. All proceeds from this event support recreation\, life skills\, and social programs that make inclusion possible.
URL:https://visitulstercountyny.com/event/hoops-4-inclusion/
LOCATION:saugerties high school gym\, 310 Washington Ave\, Saugerties\, NY\, 12477\, United States
CATEGORIES:Fundraising Event,Sporting Event
ATTACH;FMTTYPE=image/png:https://visitulstercountyny.com/wp-content/uploads/2026/03/Hoops-4-Inclusion-Flyer-with-Presenting-Sponsor-Logo.png
END:VEVENT
END:VCALENDAR