BEGIN:VCALENDAR
VERSION:2.0
PRODID:-//UC Tourism Production - ECPv6.15.18//NONSGML v1.0//EN
CALSCALE:GREGORIAN
METHOD:PUBLISH
X-WR-CALNAME:UC Tourism Production
X-ORIGINAL-URL:https://visitulstercountyny.com
X-WR-CALDESC:Events for UC Tourism Production
REFRESH-INTERVAL;VALUE=DURATION:PT1H
X-Robots-Tag:noindex
X-PUBLISHED-TTL:PT1H
BEGIN:VTIMEZONE
TZID:America/New_York
BEGIN:DAYLIGHT
TZOFFSETFROM:-0500
TZOFFSETTO:-0400
TZNAME:EDT
DTSTART:20250309T070000
END:DAYLIGHT
BEGIN:STANDARD
TZOFFSETFROM:-0400
TZOFFSETTO:-0500
TZNAME:EST
DTSTART:20251102T060000
END:STANDARD
BEGIN:DAYLIGHT
TZOFFSETFROM:-0500
TZOFFSETTO:-0400
TZNAME:EDT
DTSTART:20260308T070000
END:DAYLIGHT
BEGIN:STANDARD
TZOFFSETFROM:-0400
TZOFFSETTO:-0500
TZNAME:EST
DTSTART:20261101T060000
END:STANDARD
BEGIN:DAYLIGHT
TZOFFSETFROM:-0500
TZOFFSETTO:-0400
TZNAME:EDT
DTSTART:20270314T070000
END:DAYLIGHT
BEGIN:STANDARD
TZOFFSETFROM:-0400
TZOFFSETTO:-0500
TZNAME:EST
DTSTART:20271107T060000
END:STANDARD
END:VTIMEZONE
BEGIN:VEVENT
DTSTART;TZID=America/New_York:20260315T180000
DTEND;TZID=America/New_York:20260315T230000
DTSTAMP:20260420T055041
CREATED:20260226T185215Z
LAST-MODIFIED:20260226T185215Z
UID:10010117-1773597600-1773615600@visitulstercountyny.com
SUMMARY:Woodstock Film Festival Oscars Viewing Party
DESCRIPTION:Join WFF once again at Assembly Kingston in the Uptown Stockade District as we celebrate Hollywood’s biggest night—the Oscars®! \nEnjoy delicious hors d’oeuvres\, dinner\, and drinks while taking in a live screening of the Academy Awards® with a vibrant community of fellow film lovers.
URL:https://visitulstercountyny.com/event/woodstock-film-festival-oscars-viewing-party/
LOCATION:Assembly Kingston\, 236 Wall St\, Kingston\, NY\, 12401\, United States
CATEGORIES:Fairs & Festivals,Movie
ATTACH;FMTTYPE=image/png:https://visitulstercountyny.com/wp-content/uploads/2026/02/WFF-Oscars-party-1.png
ORGANIZER;CN="Woodstock Film Festival":MAILTO:info@woodstockfilmfestival.org
END:VEVENT
BEGIN:VEVENT
DTSTART;TZID=America/New_York:20260321T140000
DTEND;TZID=America/New_York:20260321T140000
DTSTAMP:20260420T055041
CREATED:20260225T144655Z
LAST-MODIFIED:20260225T144711Z
UID:10010114-1774101600-1774101600@visitulstercountyny.com
SUMMARY:Shelf Life: A Special Screening to Benefit The Meeting of the Milkmaids & New York State Cheese Council
DESCRIPTION:A panel discussion and cheese tasting! Be a part of the conversation about aging and affinage! Space is limited.
URL:https://visitulstercountyny.com/event/shelf-life-a-special-screening-to-benefit-the-meeting-of-the-milkmaids-new-york-state-cheese-council/
LOCATION:Rosendale Theatre\, 408 Main Street\, Rosendale\, 12472
CATEGORIES:Lecture,Movie
ATTACH;FMTTYPE=image/png:https://visitulstercountyny.com/wp-content/uploads/2026/02/Picture1-1.png
END:VEVENT
BEGIN:VEVENT
DTSTART;TZID=America/New_York:20260321T140000
DTEND;TZID=America/New_York:20260321T163000
DTSTAMP:20260420T055041
CREATED:20260312T134215Z
LAST-MODIFIED:20260312T134215Z
UID:10010215-1774101600-1774110600@visitulstercountyny.com
SUMMARY:Catskills Energy Future III
DESCRIPTION:The film traces how New York City avoided building a filtration plant by acquiring and controlling hundreds of thousands of acres upstate\, reshaping land use\, population growth\, and economic development across the region. It also documents how that framework is now shifting\, as city agencies and state planners pursue solar development\, battery storage\, and long-range transmission corridors on land once considered untouchable.
URL:https://visitulstercountyny.com/event/catskills-energy-future-iii/
LOCATION:Phoenicia Playhouse\, 10 Church Street\, Phoenicia\, NY\, 12464
CATEGORIES:Movie
ATTACH;FMTTYPE=image/jpeg:https://visitulstercountyny.com/wp-content/uploads/2026/03/3-21-Catskills-Energy-Future.jpg
ORGANIZER;CN="New York Energy Alliance":MAILTO:info@nyenergyalliance.org
END:VEVENT
BEGIN:VEVENT
DTSTART;TZID=America/New_York:20260321T190000
DTEND;TZID=America/New_York:20260321T200000
DTSTAMP:20260420T055041
CREATED:20260303T153053Z
LAST-MODIFIED:20260303T153053Z
UID:10010127-1774119600-1774123200@visitulstercountyny.com
SUMMARY:VELVET VISION: THE STORY OF JAMES BIDGOOD AND THE MAKING OF PINK NARCISSUS Screening + Q&A with Filmmaker Bart Everly
DESCRIPTION:Join the Woodstock Film Festival & Queerly Inc. to celebrate the visionary artistry and radical legacy of James Bidgood. \nThis documentary is an intimate portrait of a complex but brilliant man who\, despite his many challenges\, left behind his incredible technicolor artistry and a legacy that will continue to shine brightly. \nThe evening concludes with a Q&A with Filmmaker Bart Everly\, moderated by Jonathan Van Meter\, veteran journalist and writer.
URL:https://visitulstercountyny.com/event/velvet-vision-the-story-of-james-bidgood-and-the-making-of-pink-narcissus-screening-qa-with-filmmaker-bart-everly/
LOCATION:Tinker Street Cinema\, 132 Tinker Street\, Woodstock\, NY\, 12498
CATEGORIES:Movie
END:VEVENT
END:VCALENDAR