BEGIN:VCALENDAR
VERSION:2.0
PRODID:-//UC Tourism Production - ECPv6.15.18//NONSGML v1.0//EN
CALSCALE:GREGORIAN
METHOD:PUBLISH
X-WR-CALNAME:UC Tourism Production
X-ORIGINAL-URL:https://visitulstercountyny.com
X-WR-CALDESC:Events for UC Tourism Production
REFRESH-INTERVAL;VALUE=DURATION:PT1H
X-Robots-Tag:noindex
X-PUBLISHED-TTL:PT1H
BEGIN:VTIMEZONE
TZID:America/New_York
BEGIN:DAYLIGHT
TZOFFSETFROM:-0500
TZOFFSETTO:-0400
TZNAME:EDT
DTSTART:20250309T070000
END:DAYLIGHT
BEGIN:STANDARD
TZOFFSETFROM:-0400
TZOFFSETTO:-0500
TZNAME:EST
DTSTART:20251102T060000
END:STANDARD
BEGIN:DAYLIGHT
TZOFFSETFROM:-0500
TZOFFSETTO:-0400
TZNAME:EDT
DTSTART:20260308T070000
END:DAYLIGHT
BEGIN:STANDARD
TZOFFSETFROM:-0400
TZOFFSETTO:-0500
TZNAME:EST
DTSTART:20261101T060000
END:STANDARD
BEGIN:DAYLIGHT
TZOFFSETFROM:-0500
TZOFFSETTO:-0400
TZNAME:EDT
DTSTART:20270314T070000
END:DAYLIGHT
BEGIN:STANDARD
TZOFFSETFROM:-0400
TZOFFSETTO:-0500
TZNAME:EST
DTSTART:20271107T060000
END:STANDARD
END:VTIMEZONE
BEGIN:VEVENT
DTSTART;TZID=America/New_York:20260419T110000
DTEND;TZID=America/New_York:20260419T170000
DTSTAMP:20260421T052308
CREATED:20260306T143012Z
LAST-MODIFIED:20260306T143012Z
UID:10010140-1776596400-1776618000@visitulstercountyny.com
SUMMARY:Earth Day at the Wineries on the Shawangunk Wine Trail
DESCRIPTION:Spring is coming\, and it’s time to explore the Hudson Valley in bloom! Visit the Shawangunk Wine Trail for Earth Day at the Wineries 2026. \nApril 18–19\, 2026 from 11am–5pm each day\, for a self-guided tasting adventure like no other. \nEnjoy wine tastings at 5 local wineries\, take home a tasting glass\, a mini potted herb\, and experience the valley’s scenic spring views. \nEarly Bird tickets are $20 and limited to the first 200 tickets — get yours today! \nPrice increases to $25 after April 1 or when the first 200 tickets are sold — whichever comes first. Don’t wait!
URL:https://visitulstercountyny.com/event/earth-day-at-the-wineries-on-the-shawangunk-wine-trail/2026-04-19/
LOCATION:Shawangunk Wine Trail\, NY
CATEGORIES:Food & Drink
ATTACH;FMTTYPE=image/jpeg:https://visitulstercountyny.com/wp-content/uploads/2026/03/Small-Logo-280x280-1.jpg
ORGANIZER;CN="Shawangunk Wine Trail":MAILTO:jude@gunkswine.com
END:VEVENT
BEGIN:VEVENT
DTSTART;TZID=America/New_York:20260418T110000
DTEND;TZID=America/New_York:20260418T170000
DTSTAMP:20260421T052308
CREATED:20260306T143012Z
LAST-MODIFIED:20260306T143012Z
UID:10010139-1776510000-1776531600@visitulstercountyny.com
SUMMARY:Earth Day at the Wineries on the Shawangunk Wine Trail
DESCRIPTION:Spring is coming\, and it’s time to explore the Hudson Valley in bloom! Visit the Shawangunk Wine Trail for Earth Day at the Wineries 2026. \nApril 18–19\, 2026 from 11am–5pm each day\, for a self-guided tasting adventure like no other. \nEnjoy wine tastings at 5 local wineries\, take home a tasting glass\, a mini potted herb\, and experience the valley’s scenic spring views. \nEarly Bird tickets are $20 and limited to the first 200 tickets — get yours today! \nPrice increases to $25 after April 1 or when the first 200 tickets are sold — whichever comes first. Don’t wait!
URL:https://visitulstercountyny.com/event/earth-day-at-the-wineries-on-the-shawangunk-wine-trail/2026-04-18/
LOCATION:Shawangunk Wine Trail\, NY
CATEGORIES:Food & Drink
ATTACH;FMTTYPE=image/jpeg:https://visitulstercountyny.com/wp-content/uploads/2026/03/Small-Logo-280x280-1.jpg
ORGANIZER;CN="Shawangunk Wine Trail":MAILTO:jude@gunkswine.com
END:VEVENT
BEGIN:VEVENT
DTSTART;TZID=America/New_York:20260415T193000
DTEND;TZID=America/New_York:20260415T210000
DTSTAMP:20260421T052308
CREATED:20260406T150242Z
LAST-MODIFIED:20260406T150242Z
UID:10010278-1776281400-1776286800@visitulstercountyny.com
SUMMARY:Aaron Foster "Mostly Jokes" | Stand Up Comedy
DESCRIPTION:Comedian and former HGTV host brings “Mostly Jokes” to the James Kleinart Gallery at the Birdcliffe Guild for one night only as he prepares to tape his first special. It’s raw\, honest and sometimes dark comedy about mental health\, mid-life and an occasional Paul Rudd joke because\, well\, why not? Also\, Foster promises that he doesn’t do crowd work.
URL:https://visitulstercountyny.com/event/aaron-foster-mostly-jokes-stand-up-comedy/
LOCATION:Woodstock Byrdcliffe Guild\, 36 Tinker Street\, Woodstock\, 12498
CATEGORIES:Comedy
ATTACH;FMTTYPE=image/jpeg:https://visitulstercountyny.com/wp-content/uploads/2026/04/Woodstock2x3-scaled.jpg
END:VEVENT
BEGIN:VEVENT
DTSTART;TZID=America/New_York:20260411T100000
DTEND;TZID=America/New_York:20260411T190000
DTSTAMP:20260421T052308
CREATED:20260316T175407Z
LAST-MODIFIED:20260316T175407Z
UID:10010243-1775901600-1775934000@visitulstercountyny.com
SUMMARY:Ulster County Fiber and Cider Tour
DESCRIPTION:From 10:00am-3:00pm-Explore cozy sheep farms\, yarn shops\, fiber studios\, and local ciders on this fun\, hands-on tour through Ulster County. Then from 4:00pm-7:00pm come on down to Twin Star Orchards to celebrate the day with an After Party Cochineal Dance featuring live music by the Crushed Bugs and shop for local wool items at the Shepherds Market. Lots of delicious food and beverage options for purchase. Bring our spinning wheel or craft project for the After Party Spin-In. Cochineal dye pot will be ready for dyeing protein fiber cloth\, and skeins of yarn.
URL:https://visitulstercountyny.com/event/ulster-county-fiber-and-cider-tour/
LOCATION:Twin Star Orchards\, 155 N Ohioville Rd\, New Paltz\, 12561\, United States
CATEGORIES:Arts & Culture,Food & Drink,Market,Music
ATTACH;FMTTYPE=image/jpeg:https://visitulstercountyny.com/wp-content/uploads/2026/03/UlsterCountyMap_2026.jpeg
END:VEVENT
BEGIN:VEVENT
DTSTART;TZID=America/New_York:20260404T120000
DTEND;TZID=America/New_York:20260404T173000
DTSTAMP:20260421T052308
CREATED:20260317T151656Z
LAST-MODIFIED:20260317T151656Z
UID:10010252-1775304000-1775323800@visitulstercountyny.com
SUMMARY:Hudson Valley Craft Beverage Festival
DESCRIPTION:Explore a bustling Tasting Market and try the best local cider\, beer\, wine\, spirits and kombucha from a curated selection of Hudson Valley’s finest beverage makers. Producers tend to bring their favorite experiments and their smallest batches\, so you might try something you can’t find anywhere else! There will be live music all day\, wood-fired pizza\, burgers and a season opening pig roast!
URL:https://visitulstercountyny.com/event/hudson-valley-craft-beverage-festival/
LOCATION:Twin Star Orchards\, 155 N Ohioville Rd\, New Paltz\, 12561\, United States
CATEGORIES:Fairs & Festivals,Food & Drink
ATTACH;FMTTYPE=image/jpeg:https://visitulstercountyny.com/wp-content/uploads/2026/03/649784253_1370949528394059_8481773932804571565_n.jpg
END:VEVENT
BEGIN:VEVENT
DTSTART;TZID=America/New_York:20260321T120000
DTEND;TZID=America/New_York:20260321T150000
DTSTAMP:20260421T052308
CREATED:20260316T192354Z
LAST-MODIFIED:20260316T192354Z
UID:10010245-1774094400-1774105200@visitulstercountyny.com
SUMMARY:17th Annual Local Ingredient Chili Challenge
DESCRIPTION:Warm up your taste buds at the 17th Annual Local Ingredient Chili Challenge in Water Street Market in New Paltz. Local chefs and home cooks go head-to-head with creative chili recipes made with Hudson Valley ingredients\, inviting visitors to sample\, vote\, and celebrate the region’s vibrant food scene. It’s a flavorful community event that brings people together for great food while raising funds for the St. Joseph’s Food Pantry! \n$50 to enter the competition!
URL:https://visitulstercountyny.com/event/17th-annual-local-ingredient-chili-challenge/
LOCATION:Water Street Market\, 10 Main Street\, New Paltz\, NY\, 12561
CATEGORIES:Food & Drink
ATTACH;FMTTYPE=image/jpeg:https://visitulstercountyny.com/wp-content/uploads/2026/03/627945178_10231147151887089_5997759739108738644_n.jpg
END:VEVENT
BEGIN:VEVENT
DTSTART;TZID=America/New_York:20260319T173000
DTEND;TZID=America/New_York:20260319T203000
DTSTAMP:20260421T052308
CREATED:20260309T131005Z
LAST-MODIFIED:20260309T131005Z
UID:10010142-1773941400-1773952200@visitulstercountyny.com
SUMMARY:Penelope Bourbon Dinner
DESCRIPTION:Enjoy a Penelope bourbon 5 course dinner complete with rare tastings including Havana\, Private Select 10yr\, American Light 18yr\, and more. Five course dinner includes oysters\, catfish\, wild boar\, and venison alongside several different Penelopes\, including the unicorn of Pepelopes\, the American Light 18yr.
URL:https://visitulstercountyny.com/event/penelope-bourbon-dinner/
LOCATION:The Ridge by Mill House\, 387 South St\, Highland\, 12528
CATEGORIES:Food & Drink
ATTACH;FMTTYPE=image/jpeg:https://visitulstercountyny.com/wp-content/uploads/2026/03/Penelope-Bottles-HOR-scaled.jpg
ORGANIZER;CN="The Ridge by Mill House":MAILTO:kim@millhousebrewing.com
END:VEVENT
BEGIN:VEVENT
DTSTART;TZID=America/New_York:20260201T103000
DTEND;TZID=America/New_York:20260228T113000
DTSTAMP:20260421T052308
CREATED:20260114T154353Z
LAST-MODIFIED:20260114T154353Z
UID:10009160-1769941800-1772278200@visitulstercountyny.com
SUMMARY:Februa-RYE All Month Long & RYE Day 2/28
DESCRIPTION:Tuthilltown Distillery will be hosting our 2nd Annual Februa-RYE and RYE Day\, drawing focus on NYs favorite grain – rye. \nWorking with the NY Distiller’s Guild and NY rye product producers\, we hope to grow the event year over year\, transcending Rye Whiskey to include food and ag applications of rye – including Glynwood Center’s work in the agricultural area\, bakeries such as Black Rooster Bread and it’s work in high rye content offerings\, and even Sfoglini Pasta offering a rye pasta option. \nAll rye product producers are encouraged to focus on rye in February with a number of producers being hosted on site at the distillery 2/28 for visitors to sample and explore a small sample of what this amazing grain can do.
URL:https://visitulstercountyny.com/event/februa-rye-all-month-long-rye-day-2-28/
LOCATION:Tuthilltown Spirits\, 14 Grist Mill Ln\, Gardiner\, 12525
CATEGORIES:Food & Drink
ATTACH;FMTTYPE=image/jpeg:https://visitulstercountyny.com/wp-content/uploads/2026/01/Copy-of-Copy-of-All-February-Instagram-Post-45-2.jpg
ORGANIZER;CN="Tuthilltown Spirits":MAILTO:hello@hudsonwhiskey.com
END:VEVENT
END:VCALENDAR