BEGIN:VCALENDAR
VERSION:2.0
PRODID:-//UC Tourism Production - ECPv6.15.18//NONSGML v1.0//EN
CALSCALE:GREGORIAN
METHOD:PUBLISH
X-ORIGINAL-URL:https://visitulstercountyny.com
X-WR-CALDESC:Events for UC Tourism Production
REFRESH-INTERVAL;VALUE=DURATION:PT1H
X-Robots-Tag:noindex
X-PUBLISHED-TTL:PT1H
BEGIN:VTIMEZONE
TZID:America/New_York
BEGIN:DAYLIGHT
TZOFFSETFROM:-0500
TZOFFSETTO:-0400
TZNAME:EDT
DTSTART:20250309T070000
END:DAYLIGHT
BEGIN:STANDARD
TZOFFSETFROM:-0400
TZOFFSETTO:-0500
TZNAME:EST
DTSTART:20251102T060000
END:STANDARD
BEGIN:DAYLIGHT
TZOFFSETFROM:-0500
TZOFFSETTO:-0400
TZNAME:EDT
DTSTART:20260308T070000
END:DAYLIGHT
BEGIN:STANDARD
TZOFFSETFROM:-0400
TZOFFSETTO:-0500
TZNAME:EST
DTSTART:20261101T060000
END:STANDARD
BEGIN:DAYLIGHT
TZOFFSETFROM:-0500
TZOFFSETTO:-0400
TZNAME:EDT
DTSTART:20270314T070000
END:DAYLIGHT
BEGIN:STANDARD
TZOFFSETFROM:-0400
TZOFFSETTO:-0500
TZNAME:EST
DTSTART:20271107T060000
END:STANDARD
END:VTIMEZONE
BEGIN:VEVENT
DTSTART;TZID=America/New_York:20260524T190000
DTEND;TZID=America/New_York:20260524T213000
DTSTAMP:20260421T155636
CREATED:20260406T152052Z
LAST-MODIFIED:20260406T152052Z
UID:10010282-1779649200-1779658200@visitulstercountyny.com
SUMMARY:Bob Dylan Birthday Tribute - Forever Young!
DESCRIPTION:Jami Delia met Dylan when she was 8 years old on the lawn of the original Woodstock PlayHouse. Having grown up in Woodstock\, and now residing in Western Massachusetts\, she is thrilled to be bringing her 10 Piece In-Tribute show at the Woodstock Playhouse in Woodstock\, NY! Expect to experience the many versions of Dylan’s tunes include performances from the 1960s on up to today’s admired artists (Chrissie Hynde\, Marcus King & Miley Cyrus\, to name a few). Special Guest performers include Peter Newland of the 1968-present Band\, FAT! Join us for this super-charged Woodstock Experience!
URL:https://visitulstercountyny.com/event/bob-dylan-birthday-tribute-forever-young/
LOCATION:Woodstock Playhouse\, 103 Mill Hill Rd\, Woodstock\, NY 12498\, NY\, 103
CATEGORIES:Dance,Music
ATTACH;FMTTYPE=image/jpeg:https://visitulstercountyny.com/wp-content/uploads/2026/04/1000005985.jpg
ORGANIZER;CN="JAMI DELIA MUSIC PRESENTS":MAILTO:jami-d@comcast.net
END:VEVENT
BEGIN:VEVENT
DTSTART;TZID=America/New_York:20260529T100000
DTEND;TZID=America/New_York:20260529T180000
DTSTAMP:20260421T155636
CREATED:20260407T134458Z
LAST-MODIFIED:20260407T134458Z
UID:10010291-1780048800-1780077600@visitulstercountyny.com
SUMMARY:Field + Supply Spring MRKT
DESCRIPTION:Shop over 250 carefully curated vendors\, enjoy live music\, and treat yourself to local eats — all set against the stunning backdrop of the Hutton Brickyards in Kingston\, NY. \nAdvance tickets are encouraged as capacity is limited. See you there!
URL:https://visitulstercountyny.com/event/field-supply-spring-mrkt/2026-05-29/
LOCATION:Hutton Brickyards\, 200 North Street\, Kingston\, NY\, 12401\, United States
CATEGORIES:Arts & Culture,Fairs & Festivals,Market
ATTACH;FMTTYPE=image/jpeg:https://visitulstercountyny.com/wp-content/uploads/2026/04/SPRING-MRKT-Instagram-1x1-Still.jpg
END:VEVENT
BEGIN:VEVENT
DTSTART;TZID=America/New_York:20260530T100000
DTEND;TZID=America/New_York:20260530T180000
DTSTAMP:20260421T155636
CREATED:20260407T134458Z
LAST-MODIFIED:20260407T134458Z
UID:10010292-1780135200-1780164000@visitulstercountyny.com
SUMMARY:Field + Supply Spring MRKT
DESCRIPTION:Shop over 250 carefully curated vendors\, enjoy live music\, and treat yourself to local eats — all set against the stunning backdrop of the Hutton Brickyards in Kingston\, NY. \nAdvance tickets are encouraged as capacity is limited. See you there!
URL:https://visitulstercountyny.com/event/field-supply-spring-mrkt/2026-05-30/
LOCATION:Hutton Brickyards\, 200 North Street\, Kingston\, NY\, 12401\, United States
CATEGORIES:Arts & Culture,Fairs & Festivals,Market
ATTACH;FMTTYPE=image/jpeg:https://visitulstercountyny.com/wp-content/uploads/2026/04/SPRING-MRKT-Instagram-1x1-Still.jpg
END:VEVENT
BEGIN:VEVENT
DTSTART;TZID=America/New_York:20260530T110000
DTEND;TZID=America/New_York:20260530T123000
DTSTAMP:20260421T155636
CREATED:20260408T151815Z
LAST-MODIFIED:20260408T151815Z
UID:10010303-1780138800-1780144200@visitulstercountyny.com
SUMMARY:The Pursuit of Happiness: The Revolution Along Huguenot Street - a Guided Tour Featuring the Daniel Hasbrouck House
DESCRIPTION:People of all backgrounds in Ulster County – Europeans\, Africans\, and the indigenous Esopus participated in the American Revolution as patriots and loyalists. Explore the historic Daniel Hasbrouck House\, built in 1721\, while learning how the war shaped Black patriots\, Dutch loyalists\, and other local revolutionaries!
URL:https://visitulstercountyny.com/event/the-pursuit-of-happiness-the-revolution-along-huguenot-street-a-guided-tour-featuring-the-daniel-hasbrouck-house/2026-05-30/
LOCATION:Historic Huguenot Street\, 81 Huguenot St.\, New Paltz\, 12561
CATEGORIES:Arts & Culture
ATTACH;FMTTYPE=image/png:https://visitulstercountyny.com/wp-content/uploads/2026/04/HHS250.png
ORGANIZER;CN="Historic Huguenot Street":MAILTO:info@huguenotstreet.org
END:VEVENT
BEGIN:VEVENT
DTSTART;TZID=America/New_York:20260531T100000
DTEND;TZID=America/New_York:20260531T180000
DTSTAMP:20260421T155636
CREATED:20260407T134458Z
LAST-MODIFIED:20260407T134458Z
UID:10010293-1780221600-1780250400@visitulstercountyny.com
SUMMARY:Field + Supply Spring MRKT
DESCRIPTION:Shop over 250 carefully curated vendors\, enjoy live music\, and treat yourself to local eats — all set against the stunning backdrop of the Hutton Brickyards in Kingston\, NY. \nAdvance tickets are encouraged as capacity is limited. See you there!
URL:https://visitulstercountyny.com/event/field-supply-spring-mrkt/2026-05-31/
LOCATION:Hutton Brickyards\, 200 North Street\, Kingston\, NY\, 12401\, United States
CATEGORIES:Arts & Culture,Fairs & Festivals,Market
ATTACH;FMTTYPE=image/jpeg:https://visitulstercountyny.com/wp-content/uploads/2026/04/SPRING-MRKT-Instagram-1x1-Still.jpg
END:VEVENT
BEGIN:VEVENT
DTSTART;TZID=America/New_York:20260606T110000
DTEND;TZID=America/New_York:20260606T123000
DTSTAMP:20260421T155636
CREATED:20260408T151815Z
LAST-MODIFIED:20260408T151815Z
UID:10010304-1780743600-1780749000@visitulstercountyny.com
SUMMARY:The Pursuit of Happiness: The Revolution Along Huguenot Street - a Guided Tour Featuring the Daniel Hasbrouck House
DESCRIPTION:People of all backgrounds in Ulster County – Europeans\, Africans\, and the indigenous Esopus participated in the American Revolution as patriots and loyalists. Explore the historic Daniel Hasbrouck House\, built in 1721\, while learning how the war shaped Black patriots\, Dutch loyalists\, and other local revolutionaries!
URL:https://visitulstercountyny.com/event/the-pursuit-of-happiness-the-revolution-along-huguenot-street-a-guided-tour-featuring-the-daniel-hasbrouck-house/2026-06-06/
LOCATION:Historic Huguenot Street\, 81 Huguenot St.\, New Paltz\, 12561
CATEGORIES:Arts & Culture
ATTACH;FMTTYPE=image/png:https://visitulstercountyny.com/wp-content/uploads/2026/04/HHS250.png
ORGANIZER;CN="Historic Huguenot Street":MAILTO:info@huguenotstreet.org
END:VEVENT
BEGIN:VEVENT
DTSTART;TZID=America/New_York:20260611T180000
DTEND;TZID=America/New_York:20260614T220000
DTSTAMP:20260421T155636
CREATED:20260420T142318Z
LAST-MODIFIED:20260420T142318Z
UID:10010353-1781200800-1781474400@visitulstercountyny.com
SUMMARY:St. Augustine’s Bazaar\, Food Truck and Music Festival
DESCRIPTION:The St. Augustine’s Bazaar\, Food Truck and Music Festival returns to Highland June 11–14\, 2026\, at 35 Phillips Avenue. This four-day community event features free admission and parking\, live music daily\, popular local food trucks\, family games\, raffles\, live performances\, and the St. Augustine Church thrift shop open throughout the weekend. Festival hours are Thursday and Friday from 6 to 10 pm\, Saturday from 2 to 10 pm\, and Sunday from 2 to 6 pm. The event is rain or shine and pet-friendly.
URL:https://visitulstercountyny.com/event/st-augustines-bazaar-food-truck-and-music-festival/2026-06-11/
LOCATION:35 Phillips Avenue\, 35 Phillips Avenue\, Highland\, NY\, 12528\, United States
CATEGORIES:Fairs & Festivals,Food & Drink,Music
ATTACH;FMTTYPE=image/png:https://visitulstercountyny.com/wp-content/uploads/2026/04/Bazaar-Image.png
ORGANIZER;CN="St. Augustine's Chruch":MAILTO:crimivaroli@gmail.com
END:VEVENT
BEGIN:VEVENT
DTSTART;TZID=America/New_York:20260612T180000
DTEND;TZID=America/New_York:20260612T220000
DTSTAMP:20260421T155636
CREATED:20260420T142318Z
LAST-MODIFIED:20260420T142318Z
UID:10010354-1781287200-1781301600@visitulstercountyny.com
SUMMARY:St. Augustine’s Bazaar\, Food Truck and Music Festival
DESCRIPTION:The St. Augustine’s Bazaar\, Food Truck and Music Festival returns to Highland June 11–14\, 2026\, at 35 Phillips Avenue. This four-day community event features free admission and parking\, live music daily\, popular local food trucks\, family games\, raffles\, live performances\, and the St. Augustine Church thrift shop open throughout the weekend. Festival hours are Thursday and Friday from 6 to 10 pm\, Saturday from 2 to 10 pm\, and Sunday from 2 to 6 pm. The event is rain or shine and pet-friendly.
URL:https://visitulstercountyny.com/event/st-augustines-bazaar-food-truck-and-music-festival/2026-06-12/
LOCATION:35 Phillips Avenue\, 35 Phillips Avenue\, Highland\, NY\, 12528\, United States
CATEGORIES:Fairs & Festivals,Food & Drink,Music
ATTACH;FMTTYPE=image/png:https://visitulstercountyny.com/wp-content/uploads/2026/04/Bazaar-Image.png
ORGANIZER;CN="St. Augustine's Chruch":MAILTO:crimivaroli@gmail.com
END:VEVENT
BEGIN:VEVENT
DTSTART;TZID=America/New_York:20260613T120000
DTEND;TZID=America/New_York:20260628T170000
DTSTAMP:20260421T155636
CREATED:20260413T154640Z
LAST-MODIFIED:20260413T154640Z
UID:10010330-1781352000-1782666000@visitulstercountyny.com
SUMMARY:In This Moment: Spring Members Exhibition
DESCRIPTION:Guided by the thoughtful curatorial vision of Lucy and Dandy Michener\, this seasonal show embraces both the richness of our cultural heritage and the excitement of emerging ideas.\nThe exhibition not only honors our community’s deep artistic roots but also invites visitors to experience new ways of seeing and understanding the world. In doing so\, it reaffirms our commitment to fostering a space that celebrates cultural identity\, encourages thoughtful engagement\, and inspires progressive artistic exploration.
URL:https://visitulstercountyny.com/event/in-this-moment-spring-members-exhibition/2026-06-13/
LOCATION:Athens Cultural Center\, 24 Second Street\, Athens\, NY\, 12015\, United States
CATEGORIES:Arts & Culture
ATTACH;FMTTYPE=image/jpeg:https://visitulstercountyny.com/wp-content/uploads/2026/04/ACC2026InThisMomentpostcard.jpg
END:VEVENT
BEGIN:VEVENT
DTSTART;TZID=America/New_York:20260613T140000
DTEND;TZID=America/New_York:20260613T160000
DTSTAMP:20260421T155636
CREATED:20260210T144857Z
LAST-MODIFIED:20260210T144857Z
UID:10010015-1781359200-1781366400@visitulstercountyny.com
SUMMARY:Woodstock School of Art Instructors Exhibition
DESCRIPTION:Instructors Exhibition\nJune 13 – September 5\, 2026\nReception\, Saturday\, June 13\, 2:00 – 4:00 pm \nThis show features Woodstock School of Art instructors exhibiting in a wide range of media. \nGallery Hours: Monday – Saturday\, 9 AM – 3 PM
URL:https://visitulstercountyny.com/event/woodstock-school-of-art-instructors-exhibition/
LOCATION:Woodstock School of Art\, 2470 NY-212\, Woodstock\, 12498
CATEGORIES:Arts & Culture
ATTACH;FMTTYPE=image/jpeg:https://visitulstercountyny.com/wp-content/uploads/2026/02/WSA-Instructors-Exhibition.jpg
ORGANIZER;CN="Woodstock School of Art":MAILTO:nina.doyle@woodstockschoolofart.org
END:VEVENT
BEGIN:VEVENT
DTSTART;TZID=America/New_York:20260613T140000
DTEND;TZID=America/New_York:20260613T220000
DTSTAMP:20260421T155636
CREATED:20260420T142318Z
LAST-MODIFIED:20260420T142318Z
UID:10010355-1781359200-1781388000@visitulstercountyny.com
SUMMARY:St. Augustine’s Bazaar\, Food Truck and Music Festival
DESCRIPTION:The St. Augustine’s Bazaar\, Food Truck and Music Festival returns to Highland June 11–14\, 2026\, at 35 Phillips Avenue. This four-day community event features free admission and parking\, live music daily\, popular local food trucks\, family games\, raffles\, live performances\, and the St. Augustine Church thrift shop open throughout the weekend. Festival hours are Thursday and Friday from 6 to 10 pm\, Saturday from 2 to 10 pm\, and Sunday from 2 to 6 pm. The event is rain or shine and pet-friendly.
URL:https://visitulstercountyny.com/event/st-augustines-bazaar-food-truck-and-music-festival/2026-06-13/
LOCATION:35 Phillips Avenue\, 35 Phillips Avenue\, Highland\, NY\, 12528\, United States
CATEGORIES:Fairs & Festivals,Food & Drink,Music
ATTACH;FMTTYPE=image/png:https://visitulstercountyny.com/wp-content/uploads/2026/04/Bazaar-Image.png
ORGANIZER;CN="St. Augustine's Chruch":MAILTO:crimivaroli@gmail.com
END:VEVENT
BEGIN:VEVENT
DTSTART;TZID=America/New_York:20260614T140000
DTEND;TZID=America/New_York:20260614T180000
DTSTAMP:20260421T155636
CREATED:20260420T142318Z
LAST-MODIFIED:20260420T142318Z
UID:10010356-1781445600-1781460000@visitulstercountyny.com
SUMMARY:St. Augustine’s Bazaar\, Food Truck and Music Festival
DESCRIPTION:The St. Augustine’s Bazaar\, Food Truck and Music Festival returns to Highland June 11–14\, 2026\, at 35 Phillips Avenue. This four-day community event features free admission and parking\, live music daily\, popular local food trucks\, family games\, raffles\, live performances\, and the St. Augustine Church thrift shop open throughout the weekend. Festival hours are Thursday and Friday from 6 to 10 pm\, Saturday from 2 to 10 pm\, and Sunday from 2 to 6 pm. The event is rain or shine and pet-friendly.
URL:https://visitulstercountyny.com/event/st-augustines-bazaar-food-truck-and-music-festival/2026-06-14/
LOCATION:35 Phillips Avenue\, 35 Phillips Avenue\, Highland\, NY\, 12528\, United States
CATEGORIES:Fairs & Festivals,Food & Drink,Music
ATTACH;FMTTYPE=image/png:https://visitulstercountyny.com/wp-content/uploads/2026/04/Bazaar-Image.png
ORGANIZER;CN="St. Augustine's Chruch":MAILTO:crimivaroli@gmail.com
END:VEVENT
BEGIN:VEVENT
DTSTART;TZID=America/New_York:20260620T110000
DTEND;TZID=America/New_York:20260620T123000
DTSTAMP:20260421T155636
CREATED:20260408T151815Z
LAST-MODIFIED:20260408T151815Z
UID:10010305-1781953200-1781958600@visitulstercountyny.com
SUMMARY:The Pursuit of Happiness: The Revolution Along Huguenot Street - a Guided Tour Featuring the Daniel Hasbrouck House
DESCRIPTION:People of all backgrounds in Ulster County – Europeans\, Africans\, and the indigenous Esopus participated in the American Revolution as patriots and loyalists. Explore the historic Daniel Hasbrouck House\, built in 1721\, while learning how the war shaped Black patriots\, Dutch loyalists\, and other local revolutionaries!
URL:https://visitulstercountyny.com/event/the-pursuit-of-happiness-the-revolution-along-huguenot-street-a-guided-tour-featuring-the-daniel-hasbrouck-house/2026-06-20/
LOCATION:Historic Huguenot Street\, 81 Huguenot St.\, New Paltz\, 12561
CATEGORIES:Arts & Culture
ATTACH;FMTTYPE=image/png:https://visitulstercountyny.com/wp-content/uploads/2026/04/HHS250.png
ORGANIZER;CN="Historic Huguenot Street":MAILTO:info@huguenotstreet.org
END:VEVENT
BEGIN:VEVENT
DTSTART;TZID=America/New_York:20260620T120000
DTEND;TZID=America/New_York:20260620T170000
DTSTAMP:20260421T155636
CREATED:20260408T152012Z
LAST-MODIFIED:20260408T152012Z
UID:10010308-1781956800-1781974800@visitulstercountyny.com
SUMMARY:Klyne Esopus Museum’s Annual Strawberry Festival
DESCRIPTION:Celebrate summer at the Klyne Esopus Museum’s annual Strawberry Festival\, a beloved community tradition bursting with fresh-picked strawberries\, homemade shortcake\, live music\, and family-friendly fun! Set against the charm of this historic Hudson Valley landmark\, the festival blends sweet treats with local history for a perfect small-town afternoon!
URL:https://visitulstercountyny.com/event/klyne-esopus-museums-annual-strawberry-festival/
LOCATION:Klyne Esopus Museum\, 764 US-9W\, Ulster Park\, NY\, 12487\, United States
CATEGORIES:Arts & Culture
ATTACH;FMTTYPE=image/jpeg:https://visitulstercountyny.com/wp-content/uploads/2026/04/Kingston-strawberry-1-700x467-1.jpg
END:VEVENT
BEGIN:VEVENT
DTSTART;TZID=America/New_York:20260627T110000
DTEND;TZID=America/New_York:20260627T123000
DTSTAMP:20260421T155636
CREATED:20260408T151815Z
LAST-MODIFIED:20260408T151815Z
UID:10010306-1782558000-1782563400@visitulstercountyny.com
SUMMARY:The Pursuit of Happiness: The Revolution Along Huguenot Street - a Guided Tour Featuring the Daniel Hasbrouck House
DESCRIPTION:People of all backgrounds in Ulster County – Europeans\, Africans\, and the indigenous Esopus participated in the American Revolution as patriots and loyalists. Explore the historic Daniel Hasbrouck House\, built in 1721\, while learning how the war shaped Black patriots\, Dutch loyalists\, and other local revolutionaries!
URL:https://visitulstercountyny.com/event/the-pursuit-of-happiness-the-revolution-along-huguenot-street-a-guided-tour-featuring-the-daniel-hasbrouck-house/2026-06-27/
LOCATION:Historic Huguenot Street\, 81 Huguenot St.\, New Paltz\, 12561
CATEGORIES:Arts & Culture
ATTACH;FMTTYPE=image/png:https://visitulstercountyny.com/wp-content/uploads/2026/04/HHS250.png
ORGANIZER;CN="Historic Huguenot Street":MAILTO:info@huguenotstreet.org
END:VEVENT
BEGIN:VEVENT
DTSTART;TZID=America/New_York:20260704T110000
DTEND;TZID=America/New_York:20260704T123000
DTSTAMP:20260421T155636
CREATED:20260408T151815Z
LAST-MODIFIED:20260408T151815Z
UID:10010307-1783162800-1783168200@visitulstercountyny.com
SUMMARY:The Pursuit of Happiness: The Revolution Along Huguenot Street - a Guided Tour Featuring the Daniel Hasbrouck House
DESCRIPTION:People of all backgrounds in Ulster County – Europeans\, Africans\, and the indigenous Esopus participated in the American Revolution as patriots and loyalists. Explore the historic Daniel Hasbrouck House\, built in 1721\, while learning how the war shaped Black patriots\, Dutch loyalists\, and other local revolutionaries!
URL:https://visitulstercountyny.com/event/the-pursuit-of-happiness-the-revolution-along-huguenot-street-a-guided-tour-featuring-the-daniel-hasbrouck-house/2026-07-04/
LOCATION:Historic Huguenot Street\, 81 Huguenot St.\, New Paltz\, 12561
CATEGORIES:Arts & Culture
ATTACH;FMTTYPE=image/png:https://visitulstercountyny.com/wp-content/uploads/2026/04/HHS250.png
ORGANIZER;CN="Historic Huguenot Street":MAILTO:info@huguenotstreet.org
END:VEVENT
BEGIN:VEVENT
DTSTART;TZID=America/New_York:20260704T120000
DTEND;TZID=America/New_York:20260719T170000
DTSTAMP:20260421T155636
CREATED:20260413T154640Z
LAST-MODIFIED:20260413T154640Z
UID:10010331-1783166400-1784480400@visitulstercountyny.com
SUMMARY:In This Moment: Spring Members Exhibition
DESCRIPTION:Guided by the thoughtful curatorial vision of Lucy and Dandy Michener\, this seasonal show embraces both the richness of our cultural heritage and the excitement of emerging ideas.\nThe exhibition not only honors our community’s deep artistic roots but also invites visitors to experience new ways of seeing and understanding the world. In doing so\, it reaffirms our commitment to fostering a space that celebrates cultural identity\, encourages thoughtful engagement\, and inspires progressive artistic exploration.
URL:https://visitulstercountyny.com/event/in-this-moment-spring-members-exhibition/2026-07-04/
LOCATION:Athens Cultural Center\, 24 Second Street\, Athens\, NY\, 12015\, United States
CATEGORIES:Arts & Culture
ATTACH;FMTTYPE=image/jpeg:https://visitulstercountyny.com/wp-content/uploads/2026/04/ACC2026InThisMomentpostcard.jpg
END:VEVENT
BEGIN:VEVENT
DTSTART;TZID=America/New_York:20260711T100000
DTEND;TZID=America/New_York:20260711T180000
DTSTAMP:20260421T155636
CREATED:20260213T150343Z
LAST-MODIFIED:20260213T150343Z
UID:10010018-1783764000-1783792800@visitulstercountyny.com
SUMMARY:Vintage in the Hudson Valley Festival
DESCRIPTION:Step into a summer weekend filled with vintage vibes\, live music\, retro culture\, local makers\, antiques\, food trucks\, and family-friendly experiences. The festival brings together classic vans\, unique vendors\, a Kids Marketplace supporting youth entrepreneurs\, and a lively community atmosphere celebrating creativity\, nostalgia\, and Hudson Valley spirit.
URL:https://visitulstercountyny.com/event/vintage-in-the-hudson-valley-festival/2026-07-11/
LOCATION:Ulster County Fairgrounds\, 249 Libertyville Rd\, New Paltz\, 12567
CATEGORIES:Car Shows,Fairs & Festivals,Market,Music
ATTACH;FMTTYPE=image/jpeg:https://visitulstercountyny.com/wp-content/uploads/2026/02/VTG-in-Valley-Social-Flyer.jpg
ORGANIZER;CN="Studio 22 Events LLC":MAILTO:vintageinthevalleyteam@gmail.com
END:VEVENT
BEGIN:VEVENT
DTSTART;TZID=America/New_York:20260712T100000
DTEND;TZID=America/New_York:20260712T160000
DTSTAMP:20260421T155636
CREATED:20260213T150343Z
LAST-MODIFIED:20260213T150343Z
UID:10010019-1783850400-1783872000@visitulstercountyny.com
SUMMARY:Vintage in the Hudson Valley Festival
DESCRIPTION:Step into a summer weekend filled with vintage vibes\, live music\, retro culture\, local makers\, antiques\, food trucks\, and family-friendly experiences. The festival brings together classic vans\, unique vendors\, a Kids Marketplace supporting youth entrepreneurs\, and a lively community atmosphere celebrating creativity\, nostalgia\, and Hudson Valley spirit.
URL:https://visitulstercountyny.com/event/vintage-in-the-hudson-valley-festival/2026-07-12/
LOCATION:Ulster County Fairgrounds\, 249 Libertyville Rd\, New Paltz\, 12567
CATEGORIES:Car Shows,Fairs & Festivals,Market,Music
ATTACH;FMTTYPE=image/jpeg:https://visitulstercountyny.com/wp-content/uploads/2026/02/VTG-in-Valley-Social-Flyer.jpg
ORGANIZER;CN="Studio 22 Events LLC":MAILTO:vintageinthevalleyteam@gmail.com
END:VEVENT
BEGIN:VEVENT
DTSTART;VALUE=DATE:20260724
DTEND;VALUE=DATE:20260727
DTSTAMP:20260421T155636
CREATED:20251114T151923Z
LAST-MODIFIED:20251114T151923Z
UID:10008888-1784851200-1785110399@visitulstercountyny.com
SUMMARY:Uplift Festival: A Retreat Into Live
DESCRIPTION:Uplift is a joyful & deeply embodied festival mindfully curated to inspire connection with community & self through Ecstatic Dance\, Yoga\, Sound Baths\, Cacao Ceremony\, Circle Singing\, Bonfire Sing-Alongs\, Somatic & Wisdom Workshops\, & more! \nGuided by an extraordinary team – Tasha Blank\, Michael V\, The Yoga House\, Reggie Hubbard\, Chynna Dee Andrada\, Tracy LJ Robertson\, Ben Brown\, Rose Stoller\, & Pamela Kalechofsky – join us for a magical 3 days & 2 nights of movement\, music\, connection\, and soul-filled celebration. It’s a time to awaken your joy\, open your heart\, & feel fully alive & embodied!
URL:https://visitulstercountyny.com/event/uplift-festival-a-retreat-into-live/
LOCATION:Menla\, 375 Pantherkill Road\, Phoenicia\, 12464
CATEGORIES:Dance,Fairs & Festivals,Music
ATTACH;FMTTYPE=image/jpeg:https://visitulstercountyny.com/wp-content/uploads/2025/11/Main-Image-Promo.jpg
ORGANIZER;CN="Menla":MAILTO:TheUpliftFestival@gmail.com
END:VEVENT
BEGIN:VEVENT
DTSTART;TZID=America/New_York:20260725T120000
DTEND;TZID=America/New_York:20260809T170000
DTSTAMP:20260421T155636
CREATED:20260413T154640Z
LAST-MODIFIED:20260413T154640Z
UID:10010332-1784980800-1786294800@visitulstercountyny.com
SUMMARY:In This Moment: Spring Members Exhibition
DESCRIPTION:Guided by the thoughtful curatorial vision of Lucy and Dandy Michener\, this seasonal show embraces both the richness of our cultural heritage and the excitement of emerging ideas.\nThe exhibition not only honors our community’s deep artistic roots but also invites visitors to experience new ways of seeing and understanding the world. In doing so\, it reaffirms our commitment to fostering a space that celebrates cultural identity\, encourages thoughtful engagement\, and inspires progressive artistic exploration.
URL:https://visitulstercountyny.com/event/in-this-moment-spring-members-exhibition/2026-07-25/
LOCATION:Athens Cultural Center\, 24 Second Street\, Athens\, NY\, 12015\, United States
CATEGORIES:Arts & Culture
ATTACH;FMTTYPE=image/jpeg:https://visitulstercountyny.com/wp-content/uploads/2026/04/ACC2026InThisMomentpostcard.jpg
END:VEVENT
BEGIN:VEVENT
DTSTART;VALUE=DATE:20260814
DTEND;VALUE=DATE:20260817
DTSTAMP:20260421T155636
CREATED:20260420T195100Z
LAST-MODIFIED:20260420T195100Z
UID:10010359-1786665600-1786924799@visitulstercountyny.com
SUMMARY:The Festival
DESCRIPTION:A 3-day outdoor music festival celebrating Broadway’s biggest stars!
URL:https://visitulstercountyny.com/event/the-festival/
LOCATION:Hutton Brickyards\, 200 North Street\, Kingston\, NY\, 12401\, United States
CATEGORIES:Fairs & Festivals,Music
ATTACH;FMTTYPE=image/png:https://visitulstercountyny.com/wp-content/uploads/2026/04/TheFestival-KeyArt-1080x1350-woAmEx.png
ORGANIZER;CN="Broadway Fest":MAILTO:info@broadwayfest.com
END:VEVENT
BEGIN:VEVENT
DTSTART;TZID=America/New_York:20260912T140000
DTEND;TZID=America/New_York:20260912T160000
DTSTAMP:20260421T155636
CREATED:20260204T172033Z
LAST-MODIFIED:20260204T172033Z
UID:10009316-1789221600-1789228800@visitulstercountyny.com
SUMMARY:Woodstock Monoprint Invitational Exhibition and Auction
DESCRIPTION:Woodstock Monoprint Invitational Exhibition and Auction\nThe annual Woodstock Monoprint Invitational Exhibition and Auction is a celebration of printmaking and community\, bringing together some of the most talented artists from the Hudson Valley and beyond. Each year\, artists collaborate with our master printers to create exceptional monoprints\, showcasing the vibrant creative community that thrives right here in our spacious\, fully equipped printmaking studios. All proceeds benefit the not for profit school. \nExhibition Dates: September 12 – October 3\, 2026
URL:https://visitulstercountyny.com/event/woodstock-monoprint-invitational-exhibition-and-auction/
LOCATION:Woodstock School of Art\, 2470 NY-212\, Woodstock\, 12498
CATEGORIES:Arts & Culture
ATTACH;FMTTYPE=image/jpeg:https://visitulstercountyny.com/wp-content/uploads/2026/02/MonothonDay1-28.jpg
ORGANIZER;CN="Woodstock School of Art":MAILTO:nina.doyle@woodstockschoolofart.org
END:VEVENT
END:VCALENDAR