BEGIN:VCALENDAR
VERSION:2.0
PRODID:-//UC Tourism Production - ECPv6.15.18//NONSGML v1.0//EN
CALSCALE:GREGORIAN
METHOD:PUBLISH
X-ORIGINAL-URL:https://visitulstercountyny.com
X-WR-CALDESC:Events for UC Tourism Production
REFRESH-INTERVAL;VALUE=DURATION:PT1H
X-Robots-Tag:noindex
X-PUBLISHED-TTL:PT1H
BEGIN:VTIMEZONE
TZID:America/New_York
BEGIN:DAYLIGHT
TZOFFSETFROM:-0500
TZOFFSETTO:-0400
TZNAME:EDT
DTSTART:20250309T070000
END:DAYLIGHT
BEGIN:STANDARD
TZOFFSETFROM:-0400
TZOFFSETTO:-0500
TZNAME:EST
DTSTART:20251102T060000
END:STANDARD
BEGIN:DAYLIGHT
TZOFFSETFROM:-0500
TZOFFSETTO:-0400
TZNAME:EDT
DTSTART:20260308T070000
END:DAYLIGHT
BEGIN:STANDARD
TZOFFSETFROM:-0400
TZOFFSETTO:-0500
TZNAME:EST
DTSTART:20261101T060000
END:STANDARD
BEGIN:DAYLIGHT
TZOFFSETFROM:-0500
TZOFFSETTO:-0400
TZNAME:EDT
DTSTART:20270314T070000
END:DAYLIGHT
BEGIN:STANDARD
TZOFFSETFROM:-0400
TZOFFSETTO:-0500
TZNAME:EST
DTSTART:20271107T060000
END:STANDARD
END:VTIMEZONE
BEGIN:VEVENT
DTSTART;TZID=America/New_York:20260311T200000
DTEND;TZID=America/New_York:20260411T220000
DTSTAMP:20260423T062825
CREATED:20260311T204123Z
LAST-MODIFIED:20260311T204123Z
UID:10010211-1773259200-1775944800@visitulstercountyny.com
SUMMARY:An Evening of Jazz with Sean Schulich
DESCRIPTION:Sean Schulich returns to the Kleinert James Gallery with his five piece band before heading South to perform at the New Orleans Jazz Festival.  This year Sean has been honored with his first commission by the American Composers Forum for their Recomposing America series — a multi-year initiative that considers the role of music in the narrative of our nation’s founding and future. Sean will debut this work at the Kleinert James Gallery performance.
URL:https://visitulstercountyny.com/event/an-evening-of-jazz-with-sean-schulich/
LOCATION:Kleinert/James Center for the Arts\, 36 Tinker Street\, Woodstock\, 12498
CATEGORIES:Music
ATTACH;FMTTYPE=image/jpeg:https://visitulstercountyny.com/wp-content/uploads/2026/03/LoveShirt12.2.25-2.06.30-PM.jpeg
END:VEVENT
BEGIN:VEVENT
DTSTART;TZID=America/New_York:20260303T200000
DTEND;TZID=America/New_York:20260303T223000
DTSTAMP:20260423T062825
CREATED:20260202T152821Z
LAST-MODIFIED:20260202T154004Z
UID:10009311-1772568000-1772577000@visitulstercountyny.com
SUMMARY:An Evening with Cat Power: The Greatest Tour
DESCRIPTION:Cat Power is celebrating the 20th anniversary of her milestone 2006 album\, The Greatest\, with Redux\, a three-song EP arriving digitally and on 10” vinyl via Domino Recording Company on Friday\, January 23\, 2026.
URL:https://visitulstercountyny.com/event/an-evening-with-cat-power-the-greatest-tour/
LOCATION:Ulster Performing Arts Center\, 601 Broadway\, Kingston\, NY\, 12401
CATEGORIES:Music
ATTACH;FMTTYPE=image/jpeg:https://visitulstercountyny.com/wp-content/uploads/2026/01/CatPower-2026_NA_Admat_5x4-WEB-990x792-1.jpg
ORGANIZER;CN="Bardavon Presents":MAILTO:boxoffice@bardavon.org
END:VEVENT
BEGIN:VEVENT
DTSTART;TZID=America/New_York:20260228T130000
DTEND;TZID=America/New_York:20260228T160000
DTSTAMP:20260423T062825
CREATED:20260109T213753Z
LAST-MODIFIED:20260227T215308Z
UID:10009152-1772283600-1772294400@visitulstercountyny.com
SUMMARY:Clearwater Open Boats
DESCRIPTION:Join Hudson River Sloop Clearwater for our January 2026 Open Boat! Spend the afternoon in community with live music\, kids activities\, tours of the Clearwater’s winter restoration projects\, and bring a dish to pass for the potluck lunch. Open Boats are free community events – if you’re able\, please consider a $5 donation to support our year-round efforts to protect the Hudson and inspire the next generation of river advocates.
URL:https://visitulstercountyny.com/event/clearwater-open-boats/2026-02-28/
LOCATION:Hudson River Maritime Museum\, 50 Rondout Landing\, Kingston\, 12401
CATEGORIES:Music
ATTACH;FMTTYPE=image/png:https://visitulstercountyny.com/wp-content/uploads/2026/01/Open-Boats-2025-Social-Media-Promo-Instagram-Post.png
ORGANIZER;CN="Hudson River Sloop Clearwater":MAILTO:sail@clearwater.org
END:VEVENT
BEGIN:VEVENT
DTSTART;TZID=America/New_York:20260124T130000
DTEND;TZID=America/New_York:20260124T160000
DTSTAMP:20260423T062825
CREATED:20260109T213753Z
LAST-MODIFIED:20260227T215308Z
UID:10009151-1769259600-1769270400@visitulstercountyny.com
SUMMARY:Clearwater Open Boats
DESCRIPTION:Join Hudson River Sloop Clearwater for our January 2026 Open Boat! Spend the afternoon in community with live music\, kids activities\, tours of the Clearwater’s winter restoration projects\, and bring a dish to pass for the potluck lunch. Open Boats are free community events – if you’re able\, please consider a $5 donation to support our year-round efforts to protect the Hudson and inspire the next generation of river advocates.
URL:https://visitulstercountyny.com/event/clearwater-open-boats/2026-01-24/
LOCATION:Hudson River Maritime Museum\, 50 Rondout Landing\, Kingston\, 12401
CATEGORIES:Music
ATTACH;FMTTYPE=image/png:https://visitulstercountyny.com/wp-content/uploads/2026/01/Open-Boats-2025-Social-Media-Promo-Instagram-Post.png
ORGANIZER;CN="Hudson River Sloop Clearwater":MAILTO:sail@clearwater.org
END:VEVENT
BEGIN:VEVENT
DTSTART;TZID=America/New_York:20260118T140000
DTEND;TZID=America/New_York:20260118T150000
DTSTAMP:20260423T062825
CREATED:20260107T141054Z
LAST-MODIFIED:20260107T141054Z
UID:10009049-1768744800-1768748400@visitulstercountyny.com
SUMMARY:Key of Q: It's About Time!
DESCRIPTION:“Please join Key of Q\, the region’s most vibrant LGBTQ+ & allied a cappella ensemble\, as we celebrate a decade of harmony\, pride\, and community. Through inventive vocal arrangements and storytelling\, we explore the many ways we experience the elasticity of time – how we spend it\, save it\, waste it\, and watch it fly.\nThis year marks our 10th anniversary as a chorus\, and our time together has been time very well spent. Key of Q has built a family where every voice matters and every unique identity is celebrated. We honor the past that has shaped us\, stand together in the present against the forces that would divide us\, and move forward into a future strengthened by community\, courage\, and connection. It’s about harmony. It’s about belonging. It’s About Time. “
URL:https://visitulstercountyny.com/event/key-of-q-its-about-time-2/
LOCATION:Redeemer Church\, 90 state Route 32\, New Paltz\, NY\, 12561
CATEGORIES:Music
ATTACH;FMTTYPE=image/jpeg:https://visitulstercountyny.com/wp-content/uploads/2026/01/1.91-1-Landscape-resized-1.jpg
ORGANIZER;CN="Key of Q":MAILTO:keyofq.chorus@gmail.com
END:VEVENT
BEGIN:VEVENT
DTSTART;TZID=America/New_York:20260117T190000
DTEND;TZID=America/New_York:20260117T200000
DTSTAMP:20260423T062825
CREATED:20260107T140625Z
LAST-MODIFIED:20260107T140625Z
UID:10009048-1768676400-1768680000@visitulstercountyny.com
SUMMARY:Key of Q: It's About Time!
DESCRIPTION:Please join Key of Q\, the region’s most vibrant LGBTQ+ & allied a cappella ensemble\, as we celebrate a decade of harmony\, pride\, and community. Through inventive vocal arrangements and storytelling\, we explore the many ways we experience the elasticity of time – how we spend it\, save it\, waste it\, and watch it fly.\nThis year marks our 10th anniversary as a chorus\, and our time together has been time very well spent. Key of Q has built a family where every voice matters and every unique identity is celebrated. We honor the past that has shaped us\, stand together in the present against the forces that would divide us\, and move forward into a future strengthened by community\, courage\, and connection. It’s about harmony. It’s about belonging. It’s About Time.
URL:https://visitulstercountyny.com/event/key-of-q-its-about-time/
LOCATION:Hudson Valley LGBTQ+ Community Center\, 300 Wall Street\, Kingston\, NY\, 12401
CATEGORIES:Music
ATTACH;FMTTYPE=image/jpeg:https://visitulstercountyny.com/wp-content/uploads/2026/01/1.91-1-Landscape-resized.jpg
ORGANIZER;CN="Key of Q":MAILTO:keyofq.chorus@gmail.com
END:VEVENT
BEGIN:VEVENT
DTSTART;TZID=America/New_York:20260110T193000
DTEND;TZID=America/New_York:20260110T213000
DTSTAMP:20260423T062825
CREATED:20251204T161747Z
LAST-MODIFIED:20251204T161747Z
UID:10008946-1768073400-1768080600@visitulstercountyny.com
SUMMARY:Woodstock Symphony Orchestra
DESCRIPTION:The Woodstock Symphony Orchestra celebrates the new year with “Voices of Revolution.” Works include Fanny Mendelssohn’s Overture in C Major\, Beethoven’s Symphony No. 3\, and soloist Chris Santos will perform the Schumann Cello Concerto in A Minor\, Op. 129.
URL:https://visitulstercountyny.com/event/woodstock-symphony-orchestra-2/
LOCATION:Woodstock Playhouse\, 103 Mill Hill Rd\, Woodstock\, NY 12498\, NY\, 103
CATEGORIES:Music
ATTACH;FMTTYPE=image/jpeg:https://visitulstercountyny.com/wp-content/uploads/2025/12/chris-santos-cello.jpg
ORGANIZER;CN="Woodstock Symphony Orchestra":MAILTO:wchorchestra@aol.com
END:VEVENT
END:VCALENDAR