BEGIN:VCALENDAR
VERSION:2.0
PRODID:-//UC Tourism Production - ECPv6.15.18//NONSGML v1.0//EN
CALSCALE:GREGORIAN
METHOD:PUBLISH
X-ORIGINAL-URL:https://visitulstercountyny.com
X-WR-CALDESC:Events for UC Tourism Production
REFRESH-INTERVAL;VALUE=DURATION:PT1H
X-Robots-Tag:noindex
X-PUBLISHED-TTL:PT1H
BEGIN:VTIMEZONE
TZID:America/New_York
BEGIN:DAYLIGHT
TZOFFSETFROM:-0500
TZOFFSETTO:-0400
TZNAME:EDT
DTSTART:20250309T070000
END:DAYLIGHT
BEGIN:STANDARD
TZOFFSETFROM:-0400
TZOFFSETTO:-0500
TZNAME:EST
DTSTART:20251102T060000
END:STANDARD
BEGIN:DAYLIGHT
TZOFFSETFROM:-0500
TZOFFSETTO:-0400
TZNAME:EDT
DTSTART:20260308T070000
END:DAYLIGHT
BEGIN:STANDARD
TZOFFSETFROM:-0400
TZOFFSETTO:-0500
TZNAME:EST
DTSTART:20261101T060000
END:STANDARD
BEGIN:DAYLIGHT
TZOFFSETFROM:-0500
TZOFFSETTO:-0400
TZNAME:EDT
DTSTART:20270314T070000
END:DAYLIGHT
BEGIN:STANDARD
TZOFFSETFROM:-0400
TZOFFSETTO:-0500
TZNAME:EST
DTSTART:20271107T060000
END:STANDARD
END:VTIMEZONE
BEGIN:VEVENT
DTSTART;TZID=America/New_York:20260411T120000
DTEND;TZID=America/New_York:20260426T170000
DTSTAMP:20260421T185118
CREATED:20260413T154640Z
LAST-MODIFIED:20260413T154640Z
UID:10010327-1775908800-1777222800@visitulstercountyny.com
SUMMARY:In This Moment: Spring Members Exhibition
DESCRIPTION:Guided by the thoughtful curatorial vision of Lucy and Dandy Michener\, this seasonal show embraces both the richness of our cultural heritage and the excitement of emerging ideas.\nThe exhibition not only honors our community’s deep artistic roots but also invites visitors to experience new ways of seeing and understanding the world. In doing so\, it reaffirms our commitment to fostering a space that celebrates cultural identity\, encourages thoughtful engagement\, and inspires progressive artistic exploration.
URL:https://visitulstercountyny.com/event/in-this-moment-spring-members-exhibition/2026-04-11/
LOCATION:Athens Cultural Center\, 24 Second Street\, Athens\, NY\, 12015\, United States
CATEGORIES:Arts & Culture
ATTACH;FMTTYPE=image/jpeg:https://visitulstercountyny.com/wp-content/uploads/2026/04/ACC2026InThisMomentpostcard.jpg
END:VEVENT
BEGIN:VEVENT
DTSTART;TZID=America/New_York:20260425T140000
DTEND;TZID=America/New_York:20260425T160000
DTSTAMP:20260421T185118
CREATED:20260421T174535Z
LAST-MODIFIED:20260421T174535Z
UID:10010360-1777125600-1777132800@visitulstercountyny.com
SUMMARY:Writers Read Presents: "Inheritance"
DESCRIPTION:The acclaimed literary series Writers Read returns to Kingston to explore the complex\, often messy\, and deeply personal ties that bind generations. Join us for an afternoon of live\, 5-minute storytelling centered around the theme: “Inheritance.” \nWhat do we keep\, and what do we try to leave behind? From DNA and family secrets to physical heirlooms and cultural legacies\, “Inheritance” invites a diverse group of voices to examine the weight of what has been passed down to them. \nThe event promises a mix of true personal stories ranging from the heartbreaking to the hilarious and will feature readings by celebrated regional and Hudson Valley writers\, including Charlotte Adamis\, Jamie Brickhouse\, Kathy Curto\, John Kenney\, Anthony Murphy\, and Irene O’Garden. \nFollowing the readings\, the audience is invited to meet and mingle with the writers and each other during an hour-long charcuterie and wine reception.
URL:https://visitulstercountyny.com/event/writers-read-presents-inheritance/
LOCATION:St. John’s Episcopal Church\, 193 Tillson Lake Road\, Kingston\, NY\, 12401\, United States
CATEGORIES:Arts & Culture
ATTACH;FMTTYPE=image/jpeg:https://visitulstercountyny.com/wp-content/uploads/2026/04/Writers-Read-cast-scaled.jpeg
ORGANIZER;CN="Writers Read%2C Inc":MAILTO:info@writersread.org
END:VEVENT
BEGIN:VEVENT
DTSTART;TZID=America/New_York:20260426T130000
DTEND;TZID=America/New_York:20260426T150000
DTSTAMP:20260421T185118
CREATED:20260420T142445Z
LAST-MODIFIED:20260420T142445Z
UID:10010348-1777208400-1777215600@visitulstercountyny.com
SUMMARY:Open Studio
DESCRIPTION:Join us on the fourth Sunday of each month\, April through October\, for Open Studio sessions\, a relaxed space where artists of all ages can create\, share skills\, and connect. Bring your supplies and a project to work on! Pull up a chair and share a table as you create alongside fellow artists. Water-based media\, fiber arts\, writing\, collage\, and more are welcome! Please note that oil paints and spray materials are not permitted in the building. \nRegistration encouraged; walk-ins welcome! Open to all ages; children must be accompanied by an adult.
URL:https://visitulstercountyny.com/event/open-studio/
LOCATION:Athens Cultural Center\, 24 Second Street\, Athens\, NY\, 12015\, United States
CATEGORIES:Arts & Culture
ATTACH;FMTTYPE=image/jpeg:https://visitulstercountyny.com/wp-content/uploads/2026/04/OpenStudio.jpg
END:VEVENT
BEGIN:VEVENT
DTSTART;TZID=America/New_York:20260429T180000
DTEND;TZID=America/New_York:20260429T180000
DTSTAMP:20260421T185118
CREATED:20260324T191011Z
LAST-MODIFIED:20260324T191011Z
UID:10010268-1777485600-1777485600@visitulstercountyny.com
SUMMARY:A Night with Steve Earle: A Benefit Concert for Clearwater
DESCRIPTION:Join master singer-songwriter Steve Earle for an intimate solo and acoustic concert at the TEMPO Performing Arts Center to benefit Hudson River Sloop Clearwater. A protege of legendary songwriters Townes Van Zandt and Guy Clark\, Steve Earle quickly became a master storyteller in his own right\, with his songs being recorded by Johnny Cash\, Waylon Jennings\, Joan Baez\, Emmylou Harris\, The Pretenders\, and countless others. In 2020\, Earle was inducted into the Nashville Songwriters Hall of Fame. And in 2023\, Steve was honored by the Bruce Springsteen Archives & Center for American Music. \nThis concert will benefit Hudson River Sloop Clearwater\, a member-supported nonprofit dedicated to protecting the Hudson River through education\, advocacy\, sailing\, and music\, and is a project of the Clearwater Festival. 2026 marks the 60th anniversary of founder Pete Seeger’s first fundraising concerts for the sloop\, and the start of Clearwater’s musical heritage that continues to this day. \nThis concert is made possible by the support and partnership of Radio Kingston and TEMPO Performing Arts Center.
URL:https://visitulstercountyny.com/event/a-night-with-steve-earle-a-benefit-concert-for-clearwater/
LOCATION:Tempo\, 29 Wurts St\, Kingston\, 12401
CATEGORIES:Music
ATTACH;FMTTYPE=image/png:https://visitulstercountyny.com/wp-content/uploads/2026/03/Steve-Earle-Concert-2026-Graphic_final.png
END:VEVENT
BEGIN:VEVENT
DTSTART;TZID=America/New_York:20260430T180000
DTEND;TZID=America/New_York:20260430T210000
DTSTAMP:20260421T185118
CREATED:20260408T141315Z
LAST-MODIFIED:20260408T141315Z
UID:10010300-1777572000-1777582800@visitulstercountyny.com
SUMMARY:Art of Producing Masterclass with Peter Saraf
DESCRIPTION:Veteran indie producer Peter Saraf (LITTLE MISS SUNSHINE\, THE FAREWELL\, A BEAUTIFUL DAY IN THE NEIGHBORHOOD) is hosting a very special in-person masterclass on independent film producing. \nIn this 3-hour course\, Peter will share how he got his start\, key highlights from his career\, the nature of film producing\, and the current state of the film industry. \nParticipants are encouraged to watch the films LITTLE MISS SUNSHINE\, THE FAREWELL\, A BEAUTIFUL DAY IN THE NEIGHBORHOOD in advance for added context\, but it is not required to fully engage in and enjoy the conversation. He will also discuss the development and production process behind these three films—tracing their journey from initial idea or script to the screen. \nThere will be ample time for questions and discussion. Concessions such as soft drinks\, beer\, wine\, cider\, fresh popcorn\, and candy will be available for purchase at the Denizen Theatre. \nAspiring and emerging producers\, filmmakers\, screenwriters\, directors\, and film students are all encouraged to attend. \nNote: No submissions or pitches will be accepted. Peter will not be sharing contact information for material to be sent.
URL:https://visitulstercountyny.com/event/art-of-producing-masterclass-with-peter-saraf-2/
LOCATION:DENIZEN Theatre\, Water Street Market\, 10 Main Street\, Suite 501\, New Paltz\, NY\, 12561
CATEGORIES:Arts & Culture
END:VEVENT
END:VCALENDAR